BEGIN:VCALENDAR
VERSION:2.0
PRODID:-//Nevada Governor&#039;s Council on Developmental Disabilities - ECPv6.15.10//NONSGML v1.0//EN
CALSCALE:GREGORIAN
METHOD:PUBLISH
X-WR-CALNAME:Nevada Governor&#039;s Council on Developmental Disabilities
X-ORIGINAL-URL:https://www.nevadaddcouncil.org
X-WR-CALDESC:Events for Nevada Governor&#039;s Council on Developmental Disabilities
REFRESH-INTERVAL;VALUE=DURATION:PT1H
X-Robots-Tag:noindex
X-PUBLISHED-TTL:PT1H
BEGIN:VTIMEZONE
TZID:America/Los_Angeles
BEGIN:DAYLIGHT
TZOFFSETFROM:-0800
TZOFFSETTO:-0700
TZNAME:PDT
DTSTART:20240310T100000
END:DAYLIGHT
BEGIN:STANDARD
TZOFFSETFROM:-0700
TZOFFSETTO:-0800
TZNAME:PST
DTSTART:20241103T090000
END:STANDARD
BEGIN:DAYLIGHT
TZOFFSETFROM:-0800
TZOFFSETTO:-0700
TZNAME:PDT
DTSTART:20250309T100000
END:DAYLIGHT
BEGIN:STANDARD
TZOFFSETFROM:-0700
TZOFFSETTO:-0800
TZNAME:PST
DTSTART:20251102T090000
END:STANDARD
BEGIN:DAYLIGHT
TZOFFSETFROM:-0800
TZOFFSETTO:-0700
TZNAME:PDT
DTSTART:20260308T100000
END:DAYLIGHT
BEGIN:STANDARD
TZOFFSETFROM:-0700
TZOFFSETTO:-0800
TZNAME:PST
DTSTART:20261101T090000
END:STANDARD
END:VTIMEZONE
BEGIN:VEVENT
DTSTART;TZID=America/Los_Angeles:20250313T090000
DTEND;TZID=America/Los_Angeles:20250313T090000
DTSTAMP:20260424T052537
CREATED:20250306T210557Z
LAST-MODIFIED:20250612T153228Z
UID:13052-1741856400-1741856400@www.nevadaddcouncil.org
SUMMARY:NGCDD Full Council Meeting
DESCRIPTION:Final NGCDD Meeting Minutes 3-13-25 \nNGCDD Meeting Minutes 3-13-25 DRAFT \nFull Council Meeting Agenda 3-13-25 \nNGCDD Meeting Minutes 12-5-24 DRAFT \n200 ADA Title II Policy Manual \nADSD Proposed ADA Policy Manual PPT \nCOUNCIL MEETINGS POLICY (DRAFT) \nCOUNCIL PURPOSE POLICY (DRAFT) \nDraft Position Statement on Applied Behavioral Analysis (ABA) and Other Therapy Types \nDraft Position Statement on Crimes \nDRAFT Position Statement on Restraints and Seclusion \nDRAFT Position Statement on Self-Advocacy \nDUTIES AND RESPONSIBILITIES OF MEMBERS POLICY (DRAFT) \nGUIDELINES FOR PRESENTATIONS AND SPEAKERS POLICY (DRAFT) \nNGCDD FFY 25′ First Quarter Project Status Summary Report \nProposed Support for DSOSN 2025
URL:https://www.nevadaddcouncil.org/meeting/ngcdd-full-council-meeting-10/
END:VEVENT
END:VCALENDAR