BEGIN:VCALENDAR
VERSION:2.0
PRODID:-//Nevada Governor&#039;s Council on Developmental Disabilities - ECPv6.15.10//NONSGML v1.0//EN
CALSCALE:GREGORIAN
METHOD:PUBLISH
X-WR-CALNAME:Nevada Governor&#039;s Council on Developmental Disabilities
X-ORIGINAL-URL:https://www.nevadaddcouncil.org
X-WR-CALDESC:Events for Nevada Governor&#039;s Council on Developmental Disabilities
REFRESH-INTERVAL;VALUE=DURATION:PT1H
X-Robots-Tag:noindex
X-PUBLISHED-TTL:PT1H
BEGIN:VTIMEZONE
TZID:America/Los_Angeles
BEGIN:DAYLIGHT
TZOFFSETFROM:-0800
TZOFFSETTO:-0700
TZNAME:PDT
DTSTART:20240310T100000
END:DAYLIGHT
BEGIN:STANDARD
TZOFFSETFROM:-0700
TZOFFSETTO:-0800
TZNAME:PST
DTSTART:20241103T090000
END:STANDARD
BEGIN:DAYLIGHT
TZOFFSETFROM:-0800
TZOFFSETTO:-0700
TZNAME:PDT
DTSTART:20250309T100000
END:DAYLIGHT
BEGIN:STANDARD
TZOFFSETFROM:-0700
TZOFFSETTO:-0800
TZNAME:PST
DTSTART:20251102T090000
END:STANDARD
BEGIN:DAYLIGHT
TZOFFSETFROM:-0800
TZOFFSETTO:-0700
TZNAME:PDT
DTSTART:20260308T100000
END:DAYLIGHT
BEGIN:STANDARD
TZOFFSETFROM:-0700
TZOFFSETTO:-0800
TZNAME:PST
DTSTART:20261101T090000
END:STANDARD
BEGIN:DAYLIGHT
TZOFFSETFROM:-0800
TZOFFSETTO:-0700
TZNAME:PDT
DTSTART:20270314T100000
END:DAYLIGHT
BEGIN:STANDARD
TZOFFSETFROM:-0700
TZOFFSETTO:-0800
TZNAME:PST
DTSTART:20271107T090000
END:STANDARD
END:VTIMEZONE
BEGIN:VEVENT
DTSTART;TZID=America/Los_Angeles:20260402T100000
DTEND;TZID=America/Los_Angeles:20260402T100000
DTSTAMP:20260423T155453
CREATED:20260316T212542Z
LAST-MODIFIED:20260408T190504Z
UID:13891-1775124000-1775124000@www.nevadaddcouncil.org
SUMMARY:NGCDD Budget Committee Meeting
DESCRIPTION:Budget Committee Minutes 4-2-26 DRAFT \nBudget Committee Agenda 4-2-26 \nBudget Committee Minutes 10-16-25 DRAFT \nFFY 2026 NGCDD Activities\, Timeline and Funding Matrix – updated
URL:https://www.nevadaddcouncil.org/meeting/ngcdd-budget-committee-meeting-15/
END:VEVENT
BEGIN:VEVENT
DTSTART;TZID=America/Los_Angeles:20260319T090000
DTEND;TZID=America/Los_Angeles:20260319T090000
DTSTAMP:20260423T155453
CREATED:20260310T210309Z
LAST-MODIFIED:20260402T210743Z
UID:13871-1773910800-1773910800@www.nevadaddcouncil.org
SUMMARY:NGCDD Full Council Meeting
DESCRIPTION:NGCDD-Meeting-Minutes 3-19-26 DRAFT \nFull Council Meeting Agenda 3-19-26 \nNGCDD-Meeting-Minutes-12-11-25-DRAFT 2 \nFirst Quarter Report 2026 CORRECTED \nMichael Glen Documentary Pitch Document – 03.12.26 \nPolicy Committee Meeting Minutes 3-5-26 DRAFT \nExecutive Committee Meeting Minutes 2-5-26 DRAFT \nEvaluation Committee Meeting Minutes 2-12-26 DRAFT \nDRAFT Transportation Ad-Hoc Committee Mintues 3-2-26 \nCalling All Nevada Authors in the Disability Community \nBudget Committee Minutes 10-16-25 DRAFT
URL:https://www.nevadaddcouncil.org/meeting/ngcdd-full-council-meeting-14/
END:VEVENT
BEGIN:VEVENT
DTSTART;TZID=America/Los_Angeles:20260305T100000
DTEND;TZID=America/Los_Angeles:20260305T100000
DTSTAMP:20260423T155453
CREATED:20260224T192212Z
LAST-MODIFIED:20260310T171032Z
UID:13846-1772704800-1772704800@www.nevadaddcouncil.org
SUMMARY:NGCDD Policy Committee Meeting
DESCRIPTION:Policy Committee Meeting Minutes 3-5-26 DRAFT \nPolicy Committee Agenda 3-5-26 \nPolicy Committee Meeting Minutes 1-22-26 DRAFT \nDraft Position on Dental Care \nDRAFT Position Statement on Self-Advocacy
URL:https://www.nevadaddcouncil.org/meeting/ngcdd-policy-committee-meeting-24/
END:VEVENT
BEGIN:VEVENT
DTSTART;TZID=America/Los_Angeles:20260302T103000
DTEND;TZID=America/Los_Angeles:20260302T103000
DTSTAMP:20260423T155453
CREATED:20260218T232042Z
LAST-MODIFIED:20260422T222859Z
UID:13828-1772447400-1772447400@www.nevadaddcouncil.org
SUMMARY:NGCDD Transportation Ad Hoc Committee Meeting
DESCRIPTION:DRAFT Transportation Ad-Hoc Committee Mintues 3-2-26 \nTransportation Ad-Hoc Committee Agenda 3-2-26
URL:https://www.nevadaddcouncil.org/meeting/ngcdd-transportation-ad-hoc-committee-meeting/
END:VEVENT
BEGIN:VEVENT
DTSTART;TZID=America/Los_Angeles:20260219T100000
DTEND;TZID=America/Los_Angeles:20260219T100000
DTSTAMP:20260423T155453
CREATED:20260211T163718Z
LAST-MODIFIED:20260219T165853Z
UID:13796-1771495200-1771495200@www.nevadaddcouncil.org
SUMMARY:NGCDD Policy Committee Meeting (Cancelled due to State Offices being Delayed)
DESCRIPTION:Policy Committee Agenda 2-19-26 \nPolicy Committee Meeting Minutes 1-22-26 DRAFT
URL:https://www.nevadaddcouncil.org/meeting/ngcdd-policy-committee-meeting-23/
END:VEVENT
BEGIN:VEVENT
DTSTART;TZID=America/Los_Angeles:20260217T090000
DTEND;TZID=America/Los_Angeles:20260217T090000
DTSTAMP:20260423T155453
CREATED:20260212T153554Z
LAST-MODIFIED:20260217T163454Z
UID:13811-1771318800-1771318800@www.nevadaddcouncil.org
SUMMARY:NGCDD Ad-Hoc Transportation Committee (Cancelled due to State Offices being Closed)
DESCRIPTION:CORRECTED Transportation Ad-Hoc Committee Agenda 2-17-26
URL:https://www.nevadaddcouncil.org/meeting/ngcdd-ad-hoc-transportation-committee/
END:VEVENT
BEGIN:VEVENT
DTSTART;TZID=America/Los_Angeles:20260212T100000
DTEND;TZID=America/Los_Angeles:20260212T100000
DTSTAMP:20260423T155453
CREATED:20260204T213644Z
LAST-MODIFIED:20260220T224812Z
UID:13786-1770890400-1770890400@www.nevadaddcouncil.org
SUMMARY:NGCDD Evaluation Committee Meeting
DESCRIPTION:Evaluation Committee Meeting Minutes 2-12-26 DRAFT \nEvaluation Committee Agenda 2-12-26 \nEvaluation Committee Meeting Minutes 11-20-25 DRAFT \nFirst Quarter Report 2026 \nFirst Quarter Report 2026 Updated
URL:https://www.nevadaddcouncil.org/meeting/ngcdd-evaluation-committee-meeting-16/
END:VEVENT
BEGIN:VEVENT
DTSTART;TZID=America/Los_Angeles:20260205T100000
DTEND;TZID=America/Los_Angeles:20260205T100000
DTSTAMP:20260423T155453
CREATED:20260128T222337Z
LAST-MODIFIED:20260415T184943Z
UID:13775-1770285600-1770285600@www.nevadaddcouncil.org
SUMMARY:NGCDD Executive Committee Meeting
DESCRIPTION:Final Executive Committee Meeting Minutes 2-5-26 \nExecutive Committee Meeting Minutes 2-5-26 DRAFT \nExecutive Committee Agenda 2-5-26 \nExecutive Committee Meeting Minutes 1-8-26 DRAFT
URL:https://www.nevadaddcouncil.org/meeting/ngcdd-executive-committee-meeting-24/
END:VEVENT
BEGIN:VEVENT
DTSTART;TZID=America/Los_Angeles:20260122T100000
DTEND;TZID=America/Los_Angeles:20260122T100000
DTSTAMP:20260423T155453
CREATED:20260114T210605Z
LAST-MODIFIED:20260310T171013Z
UID:13732-1769076000-1769076000@www.nevadaddcouncil.org
SUMMARY:NGCDD Policy Committee Meeting
DESCRIPTION:Final Policy Committee Meeting Minutes 1-22-26 \nPolicy Committee Meeting Minutes 1-22-26 DRAFT \nPolicy Committee Agenda 1-22-26 \nPolicy Committee Meeting Minutes 10-8-25 DRAFT \nPosition on Accessibility \nDraft Position on Dental Care \nDRAFT Position Statement on Disability Policymaking \nDRAFT Position on Immigration
URL:https://www.nevadaddcouncil.org/meeting/ngcdd-policy-committee-meeting-22/
END:VEVENT
BEGIN:VEVENT
DTSTART;TZID=America/Los_Angeles:20260108T100000
DTEND;TZID=America/Los_Angeles:20260108T100000
DTSTAMP:20260423T155453
CREATED:20251231T184122Z
LAST-MODIFIED:20260212T162352Z
UID:13720-1767866400-1767866400@www.nevadaddcouncil.org
SUMMARY:NGCDD Executive Committee Meeting
DESCRIPTION:Final Executive Committee Meeting Minutes 1-8-26 \nExecutive Committee Meeting Minutes 1-8-26 DRAFT \nExecutive Committee Agenda 1-8-26 \nExecutive Committee Meeting Minutes 11-19-25 DRAFT \nCOUNCIL COMMITTEES POLICY – with edits \n 
URL:https://www.nevadaddcouncil.org/meeting/ngcdd-executive-committee-meeting-23/
END:VEVENT
BEGIN:VEVENT
DTSTART;TZID=America/Los_Angeles:20251211T090000
DTEND;TZID=America/Los_Angeles:20251211T090000
DTSTAMP:20260423T155453
CREATED:20251205T211241Z
LAST-MODIFIED:20260402T210813Z
UID:13668-1765443600-1765443600@www.nevadaddcouncil.org
SUMMARY:NGCDD Full Council Meeting
DESCRIPTION:Final NGCDD-Meeting-Minutes-12-11-25 \nNGCDD-Meeting-Minutes-12-11-25-DRAFT 2 \nFull Council Meeting Agenda 12-11-25 \nNGCDD-Meeting-Minutes-9-18-25-DRAFT \nAPRIL Conference\, Portland\, OR\, 2025 \nBlock 1 – Kaison Fong_Accessible \nDraft Proposed 5Year State Plan NGCDD 27-31 Spanish \nDraft Proposed 5Year State Plan NGCDD 27-31 English \nNGCDD 2026 Calendar (Draft) \nNGCDD FFY’ 25 Fourth Quarter Project Status Summary \nEvaluation Committee Meeting Minutes 11-20-25 DRAFT \nFinal Executive Committee Meeting Minutes 10-9-25 \nExecutive Committee Meeting Minutes 11-19-25 DRAFT \nPolicy Committee Meeting Minutes 10-8-25 DRAFT \nBudget Committee Minutes 10-16-25 DRAFT \nCOUNCIL COMMITTEES POLICY \nNGCDD Council Meeting PCA Project Summary (v1.1)
URL:https://www.nevadaddcouncil.org/meeting/ngcdd-full-council-meeting-13/
END:VEVENT
BEGIN:VEVENT
DTSTART;TZID=America/Los_Angeles:20251120T100000
DTEND;TZID=America/Los_Angeles:20251120T100000
DTSTAMP:20260423T155453
CREATED:20251103T172753Z
LAST-MODIFIED:20260220T185130Z
UID:13585-1763632800-1763632800@www.nevadaddcouncil.org
SUMMARY:NGCDD Evaluation Committee Meeting
DESCRIPTION:Final Evaluation Committee Meeting Minutes 11-20-25 \nEvaluation Committee Meeting Minutes 11-20-25 DRAFT \nEvaluation Committee Agenda 11-20-25 \nEvaluation Committee Meeting Minutes 8-14-25 DRAFT \nDraft Proposed 5Year State Plan NGCDD 27-31 English \nDraft Proposed 5Year State Plan NGCDD 27-31 Spanish \nNGCDD FFY’ 25 Fourth Quarter Project Status Summary \n 
URL:https://www.nevadaddcouncil.org/meeting/ngcdd-evaluation-committee-meeting-15/
END:VEVENT
BEGIN:VEVENT
DTSTART;TZID=America/Los_Angeles:20251119T130000
DTEND;TZID=America/Los_Angeles:20251119T130000
DTSTAMP:20260423T155453
CREATED:20251027T184656Z
LAST-MODIFIED:20260115T181057Z
UID:13560-1763557200-1763557200@www.nevadaddcouncil.org
SUMMARY:NGCDD Executive Committee Meeting
DESCRIPTION:Final Executive-Committee-Meeting-Minutes-11-19-25 \nExecutive Committee Meeting Minutes 11-19-25 DRAFT \nExecutive Committee Agenda 11-19-25 \nExecutive Committee Meeting Minutes 8-1-25 DRAFT \nExecutive Committee Meeting Minutes 10-9-25 DRAFT \nCOUNCIL MEMBER PARTICIPATION POLICY \nCOUNCIL MEMBER VALUES AND EXPECTATIONS POLICY \nCOUNCIL COMMITTEES POLICY \nCOUNCIL MEMBERS SERVING ON OTHER BOARDS POLICY \nCOUNCIL PURPOSE POLICY \nPUBLIC COMMENT AND PUBLIC PARTICIPATION POLICY \nINFORMING OF POLICYMAKERS BY COUNCIL MEMBERS POLICY \nGUIDELINES FOR VISITORS POLICY \nFIVE-YEAR PLAN OF ACTION DEVELOPMENT POLICY \nGUIDELINES FOR PRESENTATIONS AND SPEAKERS POLICY \nELECTION OF THE COUNCIL OFFICERS\, TERMS OF SERVICES\, AND VACANCIES POLICY \nDELEGATION TO THE EXECUTIVE DIRECTOR POLICY \nDUTIES AND RESPONSIBILITIES OF MEMBERS POLICY \nDISCHARGE OF COUNCIL MEMBERS POLICY \nINFORMING OF POLICYMAKERS BY COUNCIL STAFF POLICY \nREASONABLE ACCOMODATIONS POLICY \nRELATIONSHIPS WITH STATE AGENCIES AND INTERAGENCY COLLABORATION POLICY \nRELEASE OF COUNCIL MEMBER INFORMATION POLICY \nUNUSED CONTRACT FUNDS POLICY \nCHILD CARE AND PERSONAL CARE ATTENDANT SERVICES FOR COUNCIL MEMBERS \nCHILD CARE AND PERSONAL CARE ATTENDANT SERVICES FOR NONCOUNCIL MEMBERS \nCOMPLAINT AND DISPUTE RESOLUTION PROCEDURE POLICY \nCONTRACT AND SUBGRANTEE FUNDING POLICY \nDraft Proposed 5Year State Plan NGCDD 27-31 English
URL:https://www.nevadaddcouncil.org/meeting/ngcdd-executive-committee-meeting-22/
END:VEVENT
BEGIN:VEVENT
DTSTART;TZID=America/Los_Angeles:20251118T100000
DTEND;TZID=America/Los_Angeles:20251118T100000
DTSTAMP:20260423T155453
CREATED:20251103T163620Z
LAST-MODIFIED:20251208T213658Z
UID:13577-1763460000-1763460000@www.nevadaddcouncil.org
SUMMARY:NGCDD Policy Committee Meeting (CANCELLED DUE TO LACK OF QUORUM)
DESCRIPTION:Policy Committee Agenda 11-18-25 \nPolicy Committee Meeting Minutes 10-8-25 DRAFT \nDRAFT Position Statement on Disability Policymaking \nDRAFT Position on Immigration \nPosition on Accessibility
URL:https://www.nevadaddcouncil.org/meeting/13577/
END:VEVENT
BEGIN:VEVENT
DTSTART;TZID=America/Los_Angeles:20251016T100000
DTEND;TZID=America/Los_Angeles:20251016T100000
DTSTAMP:20260423T155453
CREATED:20251007T180239Z
LAST-MODIFIED:20251024T190052Z
UID:13504-1760608800-1760608800@www.nevadaddcouncil.org
SUMMARY:NGCDD Budget Committee Meeting
DESCRIPTION:Budget Committee Minutes 10-16-25 DRAFT \nBudget Committee Agenda 10-16-25 \nBudget Committee Minutes 7-24-25 DRAFT \nPASSWORD FOR ALL MEETINGS: 12345
URL:https://www.nevadaddcouncil.org/meeting/ngcdd-budget-committee-meeting-14/
END:VEVENT
BEGIN:VEVENT
DTSTART;TZID=America/Los_Angeles:20251009T100000
DTEND;TZID=America/Los_Angeles:20251009T100000
DTSTAMP:20260423T155453
CREATED:20250930T180509Z
LAST-MODIFIED:20251208T210506Z
UID:13486-1760004000-1760004000@www.nevadaddcouncil.org
SUMMARY:NGCDD Executive Committee Meeting
DESCRIPTION:Final Executive Committee Meeting Minutes 10-9-25 \nExecutive Committee Meeting Minutes 10-9-25 DRAFT \nExecutive Committee Agenda 10-9-25 \nExecutive Committee Meeting Minutes 8-7-25 DRAFT \n 
URL:https://www.nevadaddcouncil.org/meeting/ngcdd-executive-committee-meeting-21/
END:VEVENT
BEGIN:VEVENT
DTSTART;TZID=America/Los_Angeles:20251008T130000
DTEND;TZID=America/Los_Angeles:20251008T130000
DTSTAMP:20260423T155453
CREATED:20250929T144211Z
LAST-MODIFIED:20260128T184828Z
UID:13473-1759928400-1759928400@www.nevadaddcouncil.org
SUMMARY:NGCDD Policy Committee Meeting
DESCRIPTION:Final Policy Committee Meeting Minutes 10-8-25 \nPolicy Committee Meeting Minutes 10-8-25 DRAFT \nPolicy Committee Agenda 10-8-25 \nPolicy-Committee-Meeting-Minutes-5-22-25-DRAFT \n 
URL:https://www.nevadaddcouncil.org/meeting/ngcdd-policy-committee-meeting-21/
END:VEVENT
BEGIN:VEVENT
DTSTART;TZID=America/Los_Angeles:20250925T100000
DTEND;TZID=America/Los_Angeles:20250925T100000
DTSTAMP:20260423T155453
CREATED:20250922T141744Z
LAST-MODIFIED:20250925T171659Z
UID:13447-1758794400-1758794400@www.nevadaddcouncil.org
SUMMARY:NGCDD Policy Committee (CANCELLED DUE TO LACK OF QUORUM)
DESCRIPTION:Policy Committee Agenda 9-25-25 \n 
URL:https://www.nevadaddcouncil.org/meeting/ngcdd-policy-committee-2/
END:VEVENT
BEGIN:VEVENT
DTSTART;TZID=America/Los_Angeles:20250918T090000
DTEND;TZID=America/Los_Angeles:20250918T090000
DTSTAMP:20260423T155453
CREATED:20250911T203503Z
LAST-MODIFIED:20251229T202223Z
UID:13429-1758186000-1758186000@www.nevadaddcouncil.org
SUMMARY:NGCDD Full Council Meeting
DESCRIPTION:Final NGCDD-Meeting-Minutes-9-18-25 \nNGCDD-Meeting-Minutes-9-18-25-DRAFT \nFull Council Meeting Agenda 9-18-25 \nNGCDD-Meeting-Minutes-6-5-25-DRAFT \nNew-Draft-5YSP-For-2nd-Round \nPosition on Accountability-Inclusion-and-Transparency \nPosition on Service-Animals \nPosition on Transportation \nPlanning Document for FFY 2026 \nNGCDD-3rd-Quarter-Project-Status-Summary-Report \n 
URL:https://www.nevadaddcouncil.org/meeting/ngcdd-full-council-meeting-12/
END:VEVENT
BEGIN:VEVENT
DTSTART;TZID=America/Los_Angeles:20250814T100000
DTEND;TZID=America/Los_Angeles:20250814T100000
DTSTAMP:20260423T155453
CREATED:20250811T153233Z
LAST-MODIFIED:20251208T213639Z
UID:13389-1755165600-1755165600@www.nevadaddcouncil.org
SUMMARY:NGCDD Evaluation Committee Meeting
DESCRIPTION:Final Evaluation Committee Meeting Minutes 8-14-25 \nEvaluation Committee Meeting Minutes 8-14-25 DRAFT \nEvaluation Committee Agenda 8-14-25 \nEvaluation Committee Meeting Minutes 5-20-25 DRAFT \nNGCDD 3rd Quarter Project Status Summary Report
URL:https://www.nevadaddcouncil.org/meeting/ngcdd-evaluation-committee-meeting-14/
END:VEVENT
BEGIN:VEVENT
DTSTART;TZID=America/Los_Angeles:20250807T100000
DTEND;TZID=America/Los_Angeles:20250807T100000
DTSTAMP:20260423T155453
CREATED:20250731T184606Z
LAST-MODIFIED:20251022T172023Z
UID:13367-1754560800-1754560800@www.nevadaddcouncil.org
SUMMARY:NGCDD Executive Committee Meeting
DESCRIPTION:Final Executive Committee Meeting Minutes 8-7-25 \nExecutive Committee Meeting Minutes 8-7-25 DRAFT \nExecutive Committee Agenda 8-7-25 \nExecutive Committee Meeting Minutes 7-17-25 DRAFT \nNew Draft 5YSP (For 2nd Round)
URL:https://www.nevadaddcouncil.org/meeting/ngcdd-executive-committee-meeting-20/
END:VEVENT
BEGIN:VEVENT
DTSTART;TZID=America/Los_Angeles:20250801T100000
DTEND;TZID=America/Los_Angeles:20250801T100000
DTSTAMP:20260423T155453
CREATED:20250728T142338Z
LAST-MODIFIED:20251208T210442Z
UID:13354-1754042400-1754042400@www.nevadaddcouncil.org
SUMMARY:NGCDD Executive Committee Meeting
DESCRIPTION:Final Executive Committee Meeting Minutes 8-1-25 \nExecutive Committee Meeting Minutes 8-1-25 DRAFT \nExecutive Committee Agenda 8-1-25 \n 
URL:https://www.nevadaddcouncil.org/meeting/ngcdd-executive-committee-meeting-19/
END:VEVENT
BEGIN:VEVENT
DTSTART;TZID=America/Los_Angeles:20250724T100000
DTEND;TZID=America/Los_Angeles:20250724T100000
DTSTAMP:20260423T155453
CREATED:20250716T200507Z
LAST-MODIFIED:20251024T185958Z
UID:13342-1753351200-1753351200@www.nevadaddcouncil.org
SUMMARY:NGCDD Budget Committee Meeting
DESCRIPTION:Final Budget Committee Minutes 7-24-25 \nBudget Committee Minutes 7-24-25 DRAFT \nFunds Reallocation by Objective \nBudget Committee Agenda 7-24-25 \nBudget Committee Minutes 5-22-25 DRAFT
URL:https://www.nevadaddcouncil.org/meeting/ngcdd-budget-committee-meeting-13/
END:VEVENT
BEGIN:VEVENT
DTSTART;TZID=America/Los_Angeles:20250717T100000
DTEND;TZID=America/Los_Angeles:20250717T100000
DTSTAMP:20260423T155453
CREATED:20250709T210935Z
LAST-MODIFIED:20250813T143609Z
UID:13334-1752746400-1752746400@www.nevadaddcouncil.org
SUMMARY:NGCDD Executive Committee Meeting
DESCRIPTION:Final Executive Committee Meeting Minutes 7-17-25 \nExecutive Committee Meeting Minutes 7-17-25 DRAFT \nExecutive Committee Agenda 7-17-25 \nExecutive Committee Meeting Minutes 4-15-25 DRAFT
URL:https://www.nevadaddcouncil.org/meeting/ngcdd-executive-committee-meeting-18/
END:VEVENT
BEGIN:VEVENT
DTSTART;TZID=America/Los_Angeles:20250612T100000
DTEND;TZID=America/Los_Angeles:20250612T100000
DTSTAMP:20260423T155453
CREATED:20250528T210643Z
LAST-MODIFIED:20250709T210817Z
UID:13241-1749722400-1749722400@www.nevadaddcouncil.org
SUMMARY:NGCDD Policy Committee Meeting CANCELLED due to lack of quorum
DESCRIPTION:Policy Committee Agenda 6-12-25 \nPolicy Committee Meeting Minutes 5-22-25 DRAFT \nDraft Position on Dental Care \nPosition on Education \nPosition on Health Care \nDraft Position on Vision Care
URL:https://www.nevadaddcouncil.org/meeting/ngcdd-policy-committee-meeting-20/
END:VEVENT
BEGIN:VEVENT
DTSTART;TZID=America/Los_Angeles:20250605T090000
DTEND;TZID=America/Los_Angeles:20250605T090000
DTSTAMP:20260423T155453
CREATED:20250528T201502Z
LAST-MODIFIED:20250930T175959Z
UID:13236-1749114000-1749114000@www.nevadaddcouncil.org
SUMMARY:NGCDD Full Council Meeting
DESCRIPTION:Final NGCDD-Meeting-Minutes-6-5-25 \nNGCDD Meeting Minutes 6-5-25 DRAFT \nFull Council Meeting Agenda 6-5-25 \nNGCDD Meeting Minutes 3-13-25 DRAFT \nAlexis Jones Presentation \nBudget Committee Minutes 5-22-25 DRAFT \nEvaluation Committee Meeting Minutes 5-20-25 DRAFT \nExecutive Committee Meeting Minutes 4-15-25 DRAFT \nFinal Policy Committee Meeting Minutes 4-17-25 \nHandout for Budget Committee 52225 \nNGCDD FFY 25′ Second Quarter Project Status Summary Report \nPolicy Committee Meeting Minutes 5-22-25 DRAFT \nProposed FFY 2027-31 5 Year State Plan \nDRAFT Position Statement on Service Animals \nDRAFT Position on Accountability\, Inclusion\, and Transparency \nDRAFT Position on Transportation \nNDSS conference \nRecruitment Presentation 2025 \n 
URL:https://www.nevadaddcouncil.org/meeting/ngcdd-full-council-meeting-11/
END:VEVENT
BEGIN:VEVENT
DTSTART;TZID=America/Los_Angeles:20250522T130000
DTEND;TZID=America/Los_Angeles:20250522T130000
DTSTAMP:20260423T155453
CREATED:20250509T165153Z
LAST-MODIFIED:20250527T215404Z
UID:13191-1747918800-1747918800@www.nevadaddcouncil.org
SUMMARY:NGCDD Budget Committee Meeting RESCHEDULED
DESCRIPTION:Budget Committee Minutes 5-22-25 DRAFT \nBudget Committee Agenda 5-22-25 \nBudget Committee Minutes 1-28-25 DRAFT \nHandout for Budget Committee 52225
URL:https://www.nevadaddcouncil.org/meeting/ngcdd-budget-committee-meeting-12/
END:VEVENT
BEGIN:VEVENT
DTSTART;TZID=America/Los_Angeles:20250522T100000
DTEND;TZID=America/Los_Angeles:20250522T100000
DTSTAMP:20260423T155453
CREATED:20250509T165252Z
LAST-MODIFIED:20251022T144801Z
UID:13196-1747908000-1747908000@www.nevadaddcouncil.org
SUMMARY:NGCDD Policy Committee Meeting
DESCRIPTION:Final Policy Committee Meeting Minutes 5-22-25 \nPolicy Committee Meeting Minutes 5-22-25 DRAFT \nPolicy Committee Agenda 5-22-25 \nPolicy Committee Meeting Minutes 4-17-25 DRAFT \nDRAFT Position on Accountability\, Inclusion\, and Transparency \nDRAFT Position on Dental Care \nDRAFT Position on Transportation \nDRAFT Position Statement on Service Animals \n 
URL:https://www.nevadaddcouncil.org/meeting/ngcdd-policy-committee-meeting-19/
END:VEVENT
BEGIN:VEVENT
DTSTART;TZID=America/Los_Angeles:20250520T100000
DTEND;TZID=America/Los_Angeles:20250520T100000
DTSTAMP:20260423T155453
CREATED:20250513T211451Z
LAST-MODIFIED:20250819T154441Z
UID:13205-1747735200-1747735200@www.nevadaddcouncil.org
SUMMARY:NGCDD Evaluation Committee Meeting
DESCRIPTION:Final Evaluation Committee Meeting Minutes 5-20-25 \nEvaluation Committee Meeting Minutes 5-20-25 DRAFT \nEvaluation Committee Agenda 5-20-25 \nEvaluation Committee Meeting Minutes 2-27-25 DRAFT \nNGCDD FFY 25′ Second Quarter Project Status Summary Report
URL:https://www.nevadaddcouncil.org/meeting/ngcdd-evaluation-committee-meeting-13/
END:VEVENT
BEGIN:VEVENT
DTSTART;TZID=America/Los_Angeles:20250508T100000
DTEND;TZID=America/Los_Angeles:20250508T100000
DTSTAMP:20260423T155453
CREATED:20250430T171832Z
LAST-MODIFIED:20250508T174014Z
UID:13175-1746698400-1746698400@www.nevadaddcouncil.org
SUMMARY:NGCDD Evaluation Committee Meeting CANCELLED
DESCRIPTION:Evaluation Committee Agenda 5-8-25 \nEvaluation Committee Meeting Minutes 2-27-25 DRAFT \nNGCDD FFY 25′ Second Quarter Project Status Summary Report
URL:https://www.nevadaddcouncil.org/meeting/ngcdd-evaluation-committee-meeting-12/
END:VEVENT
END:VCALENDAR