BEGIN:VCALENDAR
VERSION:2.0
PRODID:-//Nevada Governor&#039;s Council on Developmental Disabilities - ECPv6.15.10//NONSGML v1.0//EN
CALSCALE:GREGORIAN
METHOD:PUBLISH
X-WR-CALNAME:Nevada Governor&#039;s Council on Developmental Disabilities
X-ORIGINAL-URL:https://www.nevadaddcouncil.org
X-WR-CALDESC:Events for Nevada Governor&#039;s Council on Developmental Disabilities
REFRESH-INTERVAL;VALUE=DURATION:PT1H
X-Robots-Tag:noindex
X-PUBLISHED-TTL:PT1H
BEGIN:VTIMEZONE
TZID:America/Los_Angeles
BEGIN:DAYLIGHT
TZOFFSETFROM:-0800
TZOFFSETTO:-0700
TZNAME:PDT
DTSTART:20210314T100000
END:DAYLIGHT
BEGIN:STANDARD
TZOFFSETFROM:-0700
TZOFFSETTO:-0800
TZNAME:PST
DTSTART:20211107T090000
END:STANDARD
BEGIN:DAYLIGHT
TZOFFSETFROM:-0800
TZOFFSETTO:-0700
TZNAME:PDT
DTSTART:20220313T100000
END:DAYLIGHT
BEGIN:STANDARD
TZOFFSETFROM:-0700
TZOFFSETTO:-0800
TZNAME:PST
DTSTART:20221106T090000
END:STANDARD
BEGIN:DAYLIGHT
TZOFFSETFROM:-0800
TZOFFSETTO:-0700
TZNAME:PDT
DTSTART:20230312T100000
END:DAYLIGHT
BEGIN:STANDARD
TZOFFSETFROM:-0700
TZOFFSETTO:-0800
TZNAME:PST
DTSTART:20231105T090000
END:STANDARD
BEGIN:DAYLIGHT
TZOFFSETFROM:-0800
TZOFFSETTO:-0700
TZNAME:PDT
DTSTART:20240310T100000
END:DAYLIGHT
BEGIN:STANDARD
TZOFFSETFROM:-0700
TZOFFSETTO:-0800
TZNAME:PST
DTSTART:20241103T090000
END:STANDARD
END:VTIMEZONE
BEGIN:VEVENT
DTSTART;TZID=America/Los_Angeles:20230511T100000
DTEND;TZID=America/Los_Angeles:20230511T100000
DTSTAMP:20260425T034136
CREATED:20230420T153728Z
LAST-MODIFIED:20230814T204948Z
UID:11334-1683799200-1683799200@www.nevadaddcouncil.org
SUMMARY:NGCDD Evaluation Committee Meeting
DESCRIPTION:Final Evaluation Committee Meeting Minutes 5-11-23 \nEvaluation Committee Meeting Minutes 5-11-23 DRAFT \nEvaluation Committee Agenda 5-11-23 \nEvaluation Committee Meeting Minutes 2-9-23 DRAFT \nFFY 2024 NGCDD Activities\, Timeline and Funding Matrix \nNGCDD FFY ’23 Second Quarter Project Status Summary Report \nNvOC Atmospheric River-2 AFN Liasion Officer Report
URL:https://www.nevadaddcouncil.org/meeting/ngcdd-evaluation-committee-meeting-3/
END:VEVENT
BEGIN:VEVENT
DTSTART;TZID=America/Los_Angeles:20230504T100000
DTEND;TZID=America/Los_Angeles:20230504T100000
DTSTAMP:20260425T034136
CREATED:20230420T153624Z
LAST-MODIFIED:20230803T224925Z
UID:11330-1683194400-1683194400@www.nevadaddcouncil.org
SUMMARY:NGCDD Executive Committee Meeting
DESCRIPTION:FINAL Executive Committee Meeting Minutes 5-4-23 \nExecutive Committee Meeting Minutes 5-4-23 DRAFT \nExecutive Committee Executive Committee Agenda 5-4-23 \nExecutive Committee Meeting Minutes 4-6-23 DRAFT \nLobbying vs Education and Advocacy \nDRAFT Position on Ableism \nEducating Policymakers \nDRAFT Accessible CLDF Policy \nDRAFT Position on Language Access \nDRAFT Position on Mental Health \n 
URL:https://www.nevadaddcouncil.org/meeting/ngcdd-executive-committee-meeting-3/
END:VEVENT
BEGIN:VEVENT
DTSTART;TZID=America/Los_Angeles:20230413T100000
DTEND;TZID=America/Los_Angeles:20230413T100000
DTSTAMP:20260425T034136
CREATED:20230406T162643Z
LAST-MODIFIED:20230718T163052Z
UID:11261-1681380000-1681380000@www.nevadaddcouncil.org
SUMMARY:NGCDD Policy Committee Meeting
DESCRIPTION:FINAL Policy Committee Meeting Minutes 4-13-23 \nPolicy Committee Meeting Minutes 4-13-23 DRAFT \nPolicy Committee Agenda 4-13-23 \nAttachments/Materials: \nPolicy Committee Meeting Minutes 3-23-23 DRAFT \nDraft Position on Mental Health \nDraft Position on Language Access \nDraft Position on Ableism \nBDR List for Legislative Year 2023 for Agenda Item Number 4
URL:https://www.nevadaddcouncil.org/meeting/ngcdd-policy-committee-meeting-5/
END:VEVENT
BEGIN:VEVENT
DTSTART;TZID=America/Los_Angeles:20230406T100000
DTEND;TZID=America/Los_Angeles:20230406T100000
DTSTAMP:20260425T034136
CREATED:20230328T194401Z
LAST-MODIFIED:20230609T155950Z
UID:11245-1680775200-1680775200@www.nevadaddcouncil.org
SUMMARY:NGCDD Executive Committee Meeting
DESCRIPTION:FINAL Executive Committee Meeting Minutes 4-6-23 \nExecutive Committee Meeting Minutes 4-6-23 DRAFT \nExecutive Committee Agenda 4-6-23 \nExecutive Committee Meeting Minutes 2-2-23 DRAFT \nDraft Position on Informed Choice
URL:https://www.nevadaddcouncil.org/meeting/ngcdd-executive-committee-meeting-2/
END:VEVENT
BEGIN:VEVENT
DTSTART;TZID=America/Los_Angeles:20230328T090000
DTEND;TZID=America/Los_Angeles:20230328T090000
DTSTAMP:20260425T034136
CREATED:20230316T170953Z
LAST-MODIFIED:20230609T155917Z
UID:11224-1679994000-1679994000@www.nevadaddcouncil.org
SUMMARY:SPECIAL MEETING OF THE GENERAL COUNCIL
DESCRIPTION:Comprised of the Nevada Commission of Persons who are Deaf and Hard of Hearing (NVCDHH)\, The Nevada Statewide Independent Living Council\, (NV SILC) and The Nevada Governor’s Council on Developmental Disabilities (NGCDD) Executive Committee \n03.28.2023_Combined_Agenda \nDirectors_of_Disability_Councils_for_NV_AB161_letter
URL:https://www.nevadaddcouncil.org/meeting/special-meeting-of-the-general-council/
END:VEVENT
BEGIN:VEVENT
DTSTART;TZID=America/Los_Angeles:20230327T113000
DTEND;TZID=America/Los_Angeles:20230327T123000
DTSTAMP:20260425T034136
CREATED:20230316T171332Z
LAST-MODIFIED:20230609T155850Z
UID:11227-1679916600-1679920200@www.nevadaddcouncil.org
SUMMARY:Notice of Public Workshop
DESCRIPTION:NOTICE IS HEREBY GIVEN; the Nevada Governor’s Council on Developmental Disabilities (NGCDD) and The Nevada Statewide Independent Living Council (SILC) will hold a workshop to consider public input related to Governor Lombardo’s Executive Order 2023-003 and the request of an exemption from the SILC and the NGCDD \nExecutive Order 2023-003 Public Workshop Notice
URL:https://www.nevadaddcouncil.org/meeting/notice-of-public-workshop/
END:VEVENT
BEGIN:VEVENT
DTSTART;TZID=America/Los_Angeles:20230323T100000
DTEND;TZID=America/Los_Angeles:20230323T100000
DTSTAMP:20260425T034136
CREATED:20230316T224054Z
LAST-MODIFIED:20230609T155800Z
UID:11232-1679565600-1679565600@www.nevadaddcouncil.org
SUMMARY:NGCDD Policy Committee Meeting
DESCRIPTION:FINAL Policy Committee Meeting Minutes 3-23-23 \nPolicy Committee Meeting Minutes 3-23-23 DRAFT \nPolicy Committee Agenda 3-23-23 \nPolicy Committee Meeting Minutes 1-19-23 DRAFT
URL:https://www.nevadaddcouncil.org/meeting/ngcdd-policy-committee-meeting-4/
END:VEVENT
BEGIN:VEVENT
DTSTART;TZID=America/Los_Angeles:20230302T090000
DTEND;TZID=America/Los_Angeles:20230302T090000
DTSTAMP:20260425T034136
CREATED:20230222T231859Z
LAST-MODIFIED:20230609T155722Z
UID:11216-1677747600-1677747600@www.nevadaddcouncil.org
SUMMARY:NGCDD Full Council Meeting
DESCRIPTION:FINAL NGCDD Meeting Minutes 3-2-23 \nNGCDD Meeting Minutes 3-2-23 DRAFT \nFull Council Meeting Agenda 3-2-23 \nNGCDD Meeting Minutes 12-1-22 DRAFT
URL:https://www.nevadaddcouncil.org/meeting/ngcdd-full-council-meeting-2/
END:VEVENT
BEGIN:VEVENT
DTSTART;TZID=America/Los_Angeles:20230216T100000
DTEND;TZID=America/Los_Angeles:20230216T100000
DTSTAMP:20260425T034136
CREATED:20230213T160715Z
LAST-MODIFIED:20230609T155703Z
UID:11200-1676541600-1676541600@www.nevadaddcouncil.org
SUMMARY:NGCDD Budget Committee Meeting
DESCRIPTION:CANCELLED \nBudget Committee Agenda 2-16-23 \nBudget Committee Minutes 10-13-22 DRAFT \nRunning Cat 10 Balance (FFY 2023) COPY \n 
URL:https://www.nevadaddcouncil.org/meeting/ngcdd-budget-committee-meeting-3/
END:VEVENT
BEGIN:VEVENT
DTSTART;TZID=America/Los_Angeles:20230209T100000
DTEND;TZID=America/Los_Angeles:20230209T100000
DTSTAMP:20260425T034136
CREATED:20230131T205120Z
LAST-MODIFIED:20230609T155639Z
UID:11185-1675936800-1675936800@www.nevadaddcouncil.org
SUMMARY:NGCDD Evaluation Committee Meeting
DESCRIPTION:Final Evaluation Committee Meeting Minutes 2-9-23 \nEvaluation Committee Meeting Minutes 2-9-23 DRAFT \nNGCDD FFY ’23 First Quarter Project Status Summary Report \nEvaluation Committee Agenda 2-9-23
URL:https://www.nevadaddcouncil.org/meeting/ngcdd-evaluation-committee-meeting-2/
END:VEVENT
BEGIN:VEVENT
DTSTART;TZID=America/Los_Angeles:20230202T100000
DTEND;TZID=America/Los_Angeles:20230202T100000
DTSTAMP:20260425T034136
CREATED:20230126T183514Z
LAST-MODIFIED:20230609T155624Z
UID:11177-1675332000-1675332000@www.nevadaddcouncil.org
SUMMARY:NGCDD Executive Committee Meeting
DESCRIPTION:Final Executive Committee Meeting Minutes 2-2-23 \nExecutive Committee Meeting Minutes 2-2-23 DRAFT \nExecutive Committee Agenda 2-2-23 \nExecutive Committee Meeting Minutes 1-5-23 DRAFT \nCHILD CARE AND PERSONAL CARE ATTENDANT SERVICES FOR COUNCIL MEMBERS POLICY \nCOUNCIL MEMBER STIPENDS POLICY \nPT 58 Fee Schedule 10_2022
URL:https://www.nevadaddcouncil.org/meeting/ngcdd-executive-committee-meeting/
END:VEVENT
BEGIN:VEVENT
DTSTART;TZID=America/Los_Angeles:20230119T100000
DTEND;TZID=America/Los_Angeles:20230119T100000
DTSTAMP:20260425T034136
CREATED:20230110T164500Z
LAST-MODIFIED:20230609T155605Z
UID:11158-1674122400-1674122400@www.nevadaddcouncil.org
SUMMARY:NGCDD Policy Committee Meeting
DESCRIPTION:FINAL Policy Committee Meeting Minutes 1-19-23 \nPolicy Committee Meeting Minutes 1-19-23 DRAFT \nPolicy Committee Agenda 1-19-23 \nPolicy Committee Meeting Minutes 12-15-22 DRAFT
URL:https://www.nevadaddcouncil.org/meeting/ngcdd-policy-committee/
END:VEVENT
BEGIN:VEVENT
DTSTART;TZID=America/Los_Angeles:20230105T100000
DTEND;TZID=America/Los_Angeles:20230105T100000
DTSTAMP:20260425T034136
CREATED:20221229T183205Z
LAST-MODIFIED:20230609T155113Z
UID:11128-1672912800-1672912800@www.nevadaddcouncil.org
SUMMARY:Executive Committee Meeting
DESCRIPTION:FINAL Executive Committee Meeting Minutes 1-5-23 \nExecutive Committee Meeting Minutes 1-5-23 DRAFT \nExecutive Committee Agenda 1-5-23 \nExecutive Committee Meeting Minutes 12-8-22 DRAFT \nCOUNCIL MEMBER STIPENDS POLICY \nEmployment First in Nevada -Cumulative Edits
URL:https://www.nevadaddcouncil.org/meeting/executive-committee-meeting-5/
END:VEVENT
BEGIN:VEVENT
DTSTART;TZID=America/Los_Angeles:20221215T100000
DTEND;TZID=America/Los_Angeles:20221215T100000
DTSTAMP:20260425T034136
CREATED:20221208T164729Z
LAST-MODIFIED:20230609T160808Z
UID:11101-1671098400-1671098400@www.nevadaddcouncil.org
SUMMARY:NGCDD Policy Committee Meeting
DESCRIPTION:FINAL Policy Committee Meeting Minutes 12-15-22 \nPolicy Committee Meeting Minutes 12-15-22 DRAFT \nPolicy Committee Agenda 12-15-22 \nPolicy Committee Meeting Minutes 11-23-22 DRAFT
URL:https://www.nevadaddcouncil.org/meeting/ngcdd-policy-committee-meeting-3/
END:VEVENT
BEGIN:VEVENT
DTSTART;TZID=America/Los_Angeles:20221208T100000
DTEND;TZID=America/Los_Angeles:20221208T100000
DTSTAMP:20260425T034136
CREATED:20221205T160211Z
LAST-MODIFIED:20230609T160552Z
UID:11096-1670493600-1670493600@www.nevadaddcouncil.org
SUMMARY:NGCDD Executive Committee Meeting
DESCRIPTION:Final Executive Committee Meeting Minutes 12-8-22 \nExecutive Committee Meeting Minutes 12-8-22 DRAFT \nCOUNCIL MEMBERSHIP POLICY \nCOUNCIL MISSION POLICY \nExecutive Committee Agenda 12-8-22
URL:https://www.nevadaddcouncil.org/meeting/executive-committee-meeting-4/
END:VEVENT
BEGIN:VEVENT
DTSTART;TZID=America/Los_Angeles:20221201T090000
DTEND;TZID=America/Los_Angeles:20221201T090000
DTSTAMP:20260425T034136
CREATED:20221122T212344Z
LAST-MODIFIED:20230609T160536Z
UID:11074-1669885200-1669885200@www.nevadaddcouncil.org
SUMMARY:NGCDD Full Council Meeting
DESCRIPTION:FINAL NGCDD Meeting Minutes 12-1-22 \nNGCDD Meeting Minutes 12-1-22 DRAFT \nFull Council Meeting Agenda 12-1-22 \nNGCDD Meeting Minutes 9-1-22 DRAFT \nCouncil By-Laws for Updates from October Executive Committee Meeting \nJennifer Casselman National Down Syndrome Congress Conference 2022 \n 
URL:https://www.nevadaddcouncil.org/meeting/ngcdd-full-council-meeting/
END:VEVENT
BEGIN:VEVENT
DTSTART;TZID=America/Los_Angeles:20221123T100000
DTEND;TZID=America/Los_Angeles:20221123T100000
DTSTAMP:20260425T034136
CREATED:20221108T193317Z
LAST-MODIFIED:20230609T160523Z
UID:11056-1669197600-1669197600@www.nevadaddcouncil.org
SUMMARY:NGCDD Policy Committee Meeting
DESCRIPTION:FINAL Policy Committee Meeting Minutes 11-23-22 \nPolicy Committee Meeting Minutes 11-23-22 DRAFT \nPolicy Committee Agenda 11-23-22 \nPolicy Committee Meeting Minutes 8-18-22 DRAFT \nBDR List for Legislative Year 2023
URL:https://www.nevadaddcouncil.org/meeting/ngcdd-policy-committee-meeting-2/
END:VEVENT
BEGIN:VEVENT
DTSTART;TZID=America/Los_Angeles:20221110T100000
DTEND;TZID=America/Los_Angeles:20221110T100000
DTSTAMP:20260425T034136
CREATED:20221108T185549Z
LAST-MODIFIED:20230609T160513Z
UID:11047-1668074400-1668074400@www.nevadaddcouncil.org
SUMMARY:NGCDD Evaluation Committee Meeting
DESCRIPTION:FINAL Evaluation Committee Meeting Minutes 11-10-22 \nEvaluation Committee Meeting Minutes 11-10-22 DRAFT \nEvaluation Committee Agenda 11-10-22 \nEvaluation Committee Meeting Minutes 8-19-22 DRAFT \nFFY 22 NGCDD Annual Report \nNGCDD FFY ’22 Fourth Quarter Project Status Summary Report
URL:https://www.nevadaddcouncil.org/meeting/ngcdd-evaluation-committee-meeting/
END:VEVENT
BEGIN:VEVENT
DTSTART;TZID=America/Los_Angeles:20221013T100000
DTEND;TZID=America/Los_Angeles:20221013T170000
DTSTAMP:20260425T034136
CREATED:20221005T175422Z
LAST-MODIFIED:20230524T225654Z
UID:10992-1665655200-1665680400@www.nevadaddcouncil.org
SUMMARY:NGCDD Budget Committee Meeting
DESCRIPTION:Budget Committee Minutes 10-13-22 APPROVED \nBudget Committee Minutes 10-13-22 DRAFT \nBudget Committee Agenda 10-13-22
URL:https://www.nevadaddcouncil.org/meeting/ngcdd-budget-committee-meeting-2/
END:VEVENT
BEGIN:VEVENT
DTSTART;TZID=America/Los_Angeles:20221006T100000
DTEND;TZID=America/Los_Angeles:20221006T170000
DTSTAMP:20260425T034136
CREATED:20220926T223907Z
LAST-MODIFIED:20221209T165822Z
UID:10983-1665050400-1665075600@www.nevadaddcouncil.org
SUMMARY:NGCDD Executive Committee Meeting
DESCRIPTION:Final Executive Committee Meeting Minutes 10-6-22 \nExecutive Committee Meeting Minutes 10-6-22 DRAFT \nNGCDD 2023 Calendar (Office Copy) – Update \nCouncil By-Laws for Update at October Executive Committee Meeting \nExecutive Committee Agenda 10-6-22
URL:https://www.nevadaddcouncil.org/meeting/ngcdd-executive-committee-2/
END:VEVENT
BEGIN:VEVENT
DTSTART;TZID=America/Los_Angeles:20220908T100000
DTEND;TZID=America/Los_Angeles:20220908T170000
DTSTAMP:20260425T034136
CREATED:20220902T164021Z
LAST-MODIFIED:20221102T232910Z
UID:10787-1662631200-1662656400@www.nevadaddcouncil.org
SUMMARY:NGCDD Executive Committee
DESCRIPTION:FINAL Executive Committee Meeting Minutes 9-8-22 \nExecutive Committee Meeting Minutes 9-8-22 DRAFT \nExecutive Committee Agenda 9-8-22 \nExecutive Committee Meeting Minutes 6-28-22 DRAFT
URL:https://www.nevadaddcouncil.org/meeting/ngcdd-executive-committee/
END:VEVENT
BEGIN:VEVENT
DTSTART;TZID=America/Los_Angeles:20220901T090000
DTEND;TZID=America/Los_Angeles:20220901T170000
DTSTAMP:20260425T034136
CREATED:20220826T003528Z
LAST-MODIFIED:20221201T215210Z
UID:10757-1662022800-1662051600@www.nevadaddcouncil.org
SUMMARY:NGCDD Council Meeting
DESCRIPTION:final NGCDD Meeting Minutes 9-1-22 \nFull Council Meeting Agenda 9-1-2022 \nDUTIES OF THE VICE CHAIR POLICY \nDUTIES OF THE CHAIR POLICY \nDraft Position on Voting \nAmusing Table Topics Questions \nAdvocacy and Goals Template \nADVANCEMENT OF TRAVEL AND COMMERCIAL TRANSPORTATION FOR NON COUNCIL MEMBERS POLICY \nADVANCEMENT OF TRAVEL AND COMMERCIAL TRANSPORTATION FOR COUNCIL MEMBERS POLICY \nAccessible CLDF Policy with Proposed Changes \nUpdated 2022 Conf Schedule with room numbers \nTable Topics Questions \nPolicy Committee Meeting Minutes 8-18-22 DRAFT \nPolicy Committee Meeting Minutes 7-21-22 DRAFT \nPHWF Budget Breakdown \nNGCDD Meeting Minutes 8-10-22 DRAFT \nNGCDD Meeting Minutes 6-2-22 DRAFT \nNGCDD 2023 Calendar (Office Copy) \nKingston Presentation Handouts \nFINAL Policy Committee Meeting Minutes 6-16-22 \nNGCDD Meeting Minutes 6-2-22 DRAFT \nNGCDD Meeting Minutes 8-10-22 DRAFT
URL:https://www.nevadaddcouncil.org/meeting/ngcdd-council-meeting-2/
END:VEVENT
BEGIN:VEVENT
DTSTART;TZID=America/Los_Angeles:20220819T110000
DTEND;TZID=America/Los_Angeles:20220819T170000
DTSTAMP:20260425T034136
CREATED:20220822T163459Z
LAST-MODIFIED:20221114T233338Z
UID:10744-1660906800-1660928400@www.nevadaddcouncil.org
SUMMARY:Evaluation Committee Meeting
DESCRIPTION:FINAL Evaluation Committee Meeting Minutes 8-19-22 \nEvaluation Committee Meeting Minutes 8-19-22 DRAFT \nEvaluation Committee Agenda 8-19-22 \nEvaluation Committee Meeting Minutes 8-11-22 DRAFT
URL:https://www.nevadaddcouncil.org/meeting/evaluation-committee-meeting/
END:VEVENT
BEGIN:VEVENT
DTSTART;TZID=America/Los_Angeles:20220818T100000
DTEND;TZID=America/Los_Angeles:20220818T170000
DTSTAMP:20260425T034136
CREATED:20220822T163356Z
LAST-MODIFIED:20221129T175626Z
UID:10736-1660816800-1660842000@www.nevadaddcouncil.org
SUMMARY:Policy Committee Meeting
DESCRIPTION:FINAL Policy Committee Meeting Minutes 8-18-22 \nPolicy Committee Meeting Minutes 8-18-22 DRAFT \nPolicy Committee Meeting Minutes 7-21-22  \nDRAFT DUTIES OF THE CHAIR POLICY \nDUTIES OF THE VICE CHAIR POLICY \nDraft Position on Voting \nPolicy Committee Agenda 8-18-22
URL:https://www.nevadaddcouncil.org/meeting/policy-committee-meeting-5/
END:VEVENT
BEGIN:VEVENT
DTSTART;TZID=America/Los_Angeles:20220811T100000
DTEND;TZID=America/Los_Angeles:20220811T120000
DTSTAMP:20260425T034136
CREATED:20220801T201839Z
LAST-MODIFIED:20220915T184855Z
UID:10700-1660212000-1660219200@www.nevadaddcouncil.org
SUMMARY:Evaluation Committee
DESCRIPTION:FINAL Evaluation Committee Meeting Minutes 8-11-22 \nEvaluation Committee Meeting Minutes 8-11-22 DRAFT \nEvaluation Committee Agenda 8-11-22 \nEvaluation Committee Meeting Minutes 5-12-22 DRAFT
URL:https://www.nevadaddcouncil.org/meeting/evaluation-committee/
END:VEVENT
BEGIN:VEVENT
DTSTART;TZID=America/Los_Angeles:20220810T100000
DTEND;TZID=America/Los_Angeles:20220810T120000
DTSTAMP:20260425T034136
CREATED:20220801T171321Z
LAST-MODIFIED:20220915T183727Z
UID:10698-1660125600-1660132800@www.nevadaddcouncil.org
SUMMARY:Council Meeting
DESCRIPTION:FINAL NGCDD Meeting Minutes 8-10-22 \nNGCDD Meeting Minutes 8-10-22 DRAFT \nNGCDD Council Meeting Agenda 8-10-22
URL:https://www.nevadaddcouncil.org/meeting/council-meeting/
END:VEVENT
BEGIN:VEVENT
DTSTART;TZID=America/Los_Angeles:20220802T080000
DTEND;TZID=America/Los_Angeles:20220804T130000
DTSTAMP:20260425T034136
CREATED:20220607T185739Z
LAST-MODIFIED:20220622T155241Z
UID:10550-1659427200-1659618000@www.nevadaddcouncil.org
SUMMARY:Silver State Self-Advocacy Conference 2022
DESCRIPTION:Event Dates: August 2\, 3 & 4\, 2022 Event Location: Palace Station\, Las Vegas\, NV \n\n\n\nThe Nevada Governor’s Council on Developmental Disabilities invites you to attend the Silver State Self-Advocacy Conference 2022\, a conference by and for the I/DD community. \n\n\n\nThis event is in partnership with Nevada Aging and Disability Services\, the Nevada Disability Advocacy and Law Center\, the Nevada Center for Excellence in Disabilities\, Nevada Department of Education Office of Inclusive Education\, Nevada Blind Connect\, Nevada PEP\, Opportunity Village\, and the Statewide Independent Living Council. \n\n\n\nKeynote Speakers include Lacey Buchanan and Nina G! \n\n\n\nThis event is being held hybrid both in-person and virtually! \n\n\n\nRegistration is FREE and open to individuals with intellectual/developmental disabilities (I/DD)\, family members of those with I/DD\, and professionals who work in this community. Travel assistance is available on a limited basis and must be requested on your registration form. \n\n\n\nRegistration is closed. Conference agendas and additional materials will be sent in July 2022\, to all registered attendees. \n\n\n\nWe are also seeking speakers to host breakout sessions during the conference. If you are interested in presenting at the conference\, please fill out the application below by May 27\, 2022. Applicants will be notified by June 15\, 2022\, if they’ve been selected to present. \n\n\n\nIf you have any questions\, please contact Rebecca Ortiz\, at rortiz@dhhs.nv.gov or 775-684-8619.
URL:https://www.nevadaddcouncil.org/meeting/silver-state-self-advocacy-conference-2022/
LOCATION:Palace Station Hotel and Casino\, 2411 W Sahara Ave\, Las Vegas\, NV\, 89102\, United States
END:VEVENT
BEGIN:VEVENT
DTSTART;TZID=America/Los_Angeles:20220729T100000
DTEND;TZID=America/Los_Angeles:20220729T110000
DTSTAMP:20260425T034136
CREATED:20220725T161644Z
LAST-MODIFIED:20221114T233946Z
UID:10678-1659088800-1659092400@www.nevadaddcouncil.org
SUMMARY:NGCDD Budget Committee Meeting
DESCRIPTION:Final Budget Committee Minutes 7-29-22 \nBudget Committee Minutes 7-29-22 DRAFT \nBudget Committee Agenda 7-29-22 \nFFY 21 Cat 10 Breakdown \nFFY 22 Cat 10 Breakdown
URL:https://www.nevadaddcouncil.org/meeting/ngcdd-budget-committee-meeting/
END:VEVENT
BEGIN:VEVENT
DTSTART;TZID=America/Los_Angeles:20220721T100000
DTEND;TZID=America/Los_Angeles:20220721T110000
DTSTAMP:20260425T034136
CREATED:20220711T200715Z
LAST-MODIFIED:20220822T163230Z
UID:10661-1658397600-1658401200@www.nevadaddcouncil.org
SUMMARY:NGCDD Policy Committee Meeting
DESCRIPTION:FINAL Policy Committee Meeting Minutes 7-21-22 \nPolicy Committee Meeting Minutes 7-21-22 DRAFT \nPolicy Committee Agenda 7-21-22 \nPolicy Committee Meeting Minutes 6-16-22 DRAFT
URL:https://www.nevadaddcouncil.org/meeting/ngcdd-policy-committee-meeting/
END:VEVENT
BEGIN:VEVENT
DTSTART;TZID=America/Los_Angeles:20220714T100000
DTEND;TZID=America/Los_Angeles:20220714T110000
DTSTAMP:20260425T034136
CREATED:20220711T200551Z
LAST-MODIFIED:20220711T200750Z
UID:10657-1657792800-1657796400@www.nevadaddcouncil.org
SUMMARY:CANCELLED: NGCDD Budget Committee Meeting
DESCRIPTION:Budget Committee Agenda 7-14-22 \nBudget Committee Minutes 4-14-22 DRAFT
URL:https://www.nevadaddcouncil.org/meeting/cancelled-ngcdd-budget-committee-meeting/
END:VEVENT
END:VCALENDAR