BEGIN:VCALENDAR
VERSION:2.0
PRODID:-//Nevada Governor&#039;s Council on Developmental Disabilities - ECPv6.15.10//NONSGML v1.0//EN
CALSCALE:GREGORIAN
METHOD:PUBLISH
X-WR-CALNAME:Nevada Governor&#039;s Council on Developmental Disabilities
X-ORIGINAL-URL:https://www.nevadaddcouncil.org
X-WR-CALDESC:Events for Nevada Governor&#039;s Council on Developmental Disabilities
REFRESH-INTERVAL;VALUE=DURATION:PT1H
X-Robots-Tag:noindex
X-PUBLISHED-TTL:PT1H
BEGIN:VTIMEZONE
TZID:America/Los_Angeles
BEGIN:DAYLIGHT
TZOFFSETFROM:-0800
TZOFFSETTO:-0700
TZNAME:PDT
DTSTART:20210314T100000
END:DAYLIGHT
BEGIN:STANDARD
TZOFFSETFROM:-0700
TZOFFSETTO:-0800
TZNAME:PST
DTSTART:20211107T090000
END:STANDARD
BEGIN:DAYLIGHT
TZOFFSETFROM:-0800
TZOFFSETTO:-0700
TZNAME:PDT
DTSTART:20220313T100000
END:DAYLIGHT
BEGIN:STANDARD
TZOFFSETFROM:-0700
TZOFFSETTO:-0800
TZNAME:PST
DTSTART:20221106T090000
END:STANDARD
BEGIN:DAYLIGHT
TZOFFSETFROM:-0800
TZOFFSETTO:-0700
TZNAME:PDT
DTSTART:20230312T100000
END:DAYLIGHT
BEGIN:STANDARD
TZOFFSETFROM:-0700
TZOFFSETTO:-0800
TZNAME:PST
DTSTART:20231105T090000
END:STANDARD
END:VTIMEZONE
BEGIN:VEVENT
DTSTART;TZID=America/Los_Angeles:20221006T100000
DTEND;TZID=America/Los_Angeles:20221006T170000
DTSTAMP:20260425T063051
CREATED:20220926T223907Z
LAST-MODIFIED:20221209T165822Z
UID:10983-1665050400-1665075600@www.nevadaddcouncil.org
SUMMARY:NGCDD Executive Committee Meeting
DESCRIPTION:Final Executive Committee Meeting Minutes 10-6-22 \nExecutive Committee Meeting Minutes 10-6-22 DRAFT \nNGCDD 2023 Calendar (Office Copy) – Update \nCouncil By-Laws for Update at October Executive Committee Meeting \nExecutive Committee Agenda 10-6-22
URL:https://www.nevadaddcouncil.org/meeting/ngcdd-executive-committee-2/
END:VEVENT
BEGIN:VEVENT
DTSTART;TZID=America/Los_Angeles:20220908T100000
DTEND;TZID=America/Los_Angeles:20220908T170000
DTSTAMP:20260425T063051
CREATED:20220902T164021Z
LAST-MODIFIED:20221102T232910Z
UID:10787-1662631200-1662656400@www.nevadaddcouncil.org
SUMMARY:NGCDD Executive Committee
DESCRIPTION:FINAL Executive Committee Meeting Minutes 9-8-22 \nExecutive Committee Meeting Minutes 9-8-22 DRAFT \nExecutive Committee Agenda 9-8-22 \nExecutive Committee Meeting Minutes 6-28-22 DRAFT
URL:https://www.nevadaddcouncil.org/meeting/ngcdd-executive-committee/
END:VEVENT
BEGIN:VEVENT
DTSTART;TZID=America/Los_Angeles:20220901T090000
DTEND;TZID=America/Los_Angeles:20220901T170000
DTSTAMP:20260425T063051
CREATED:20220826T003528Z
LAST-MODIFIED:20221201T215210Z
UID:10757-1662022800-1662051600@www.nevadaddcouncil.org
SUMMARY:NGCDD Council Meeting
DESCRIPTION:final NGCDD Meeting Minutes 9-1-22 \nFull Council Meeting Agenda 9-1-2022 \nDUTIES OF THE VICE CHAIR POLICY \nDUTIES OF THE CHAIR POLICY \nDraft Position on Voting \nAmusing Table Topics Questions \nAdvocacy and Goals Template \nADVANCEMENT OF TRAVEL AND COMMERCIAL TRANSPORTATION FOR NON COUNCIL MEMBERS POLICY \nADVANCEMENT OF TRAVEL AND COMMERCIAL TRANSPORTATION FOR COUNCIL MEMBERS POLICY \nAccessible CLDF Policy with Proposed Changes \nUpdated 2022 Conf Schedule with room numbers \nTable Topics Questions \nPolicy Committee Meeting Minutes 8-18-22 DRAFT \nPolicy Committee Meeting Minutes 7-21-22 DRAFT \nPHWF Budget Breakdown \nNGCDD Meeting Minutes 8-10-22 DRAFT \nNGCDD Meeting Minutes 6-2-22 DRAFT \nNGCDD 2023 Calendar (Office Copy) \nKingston Presentation Handouts \nFINAL Policy Committee Meeting Minutes 6-16-22 \nNGCDD Meeting Minutes 6-2-22 DRAFT \nNGCDD Meeting Minutes 8-10-22 DRAFT
URL:https://www.nevadaddcouncil.org/meeting/ngcdd-council-meeting-2/
END:VEVENT
BEGIN:VEVENT
DTSTART;TZID=America/Los_Angeles:20220819T110000
DTEND;TZID=America/Los_Angeles:20220819T170000
DTSTAMP:20260425T063051
CREATED:20220822T163459Z
LAST-MODIFIED:20221114T233338Z
UID:10744-1660906800-1660928400@www.nevadaddcouncil.org
SUMMARY:Evaluation Committee Meeting
DESCRIPTION:FINAL Evaluation Committee Meeting Minutes 8-19-22 \nEvaluation Committee Meeting Minutes 8-19-22 DRAFT \nEvaluation Committee Agenda 8-19-22 \nEvaluation Committee Meeting Minutes 8-11-22 DRAFT
URL:https://www.nevadaddcouncil.org/meeting/evaluation-committee-meeting/
END:VEVENT
BEGIN:VEVENT
DTSTART;TZID=America/Los_Angeles:20220818T100000
DTEND;TZID=America/Los_Angeles:20220818T170000
DTSTAMP:20260425T063051
CREATED:20220822T163356Z
LAST-MODIFIED:20221129T175626Z
UID:10736-1660816800-1660842000@www.nevadaddcouncil.org
SUMMARY:Policy Committee Meeting
DESCRIPTION:FINAL Policy Committee Meeting Minutes 8-18-22 \nPolicy Committee Meeting Minutes 8-18-22 DRAFT \nPolicy Committee Meeting Minutes 7-21-22  \nDRAFT DUTIES OF THE CHAIR POLICY \nDUTIES OF THE VICE CHAIR POLICY \nDraft Position on Voting \nPolicy Committee Agenda 8-18-22
URL:https://www.nevadaddcouncil.org/meeting/policy-committee-meeting-5/
END:VEVENT
BEGIN:VEVENT
DTSTART;TZID=America/Los_Angeles:20220811T100000
DTEND;TZID=America/Los_Angeles:20220811T120000
DTSTAMP:20260425T063051
CREATED:20220801T201839Z
LAST-MODIFIED:20220915T184855Z
UID:10700-1660212000-1660219200@www.nevadaddcouncil.org
SUMMARY:Evaluation Committee
DESCRIPTION:FINAL Evaluation Committee Meeting Minutes 8-11-22 \nEvaluation Committee Meeting Minutes 8-11-22 DRAFT \nEvaluation Committee Agenda 8-11-22 \nEvaluation Committee Meeting Minutes 5-12-22 DRAFT
URL:https://www.nevadaddcouncil.org/meeting/evaluation-committee/
END:VEVENT
BEGIN:VEVENT
DTSTART;TZID=America/Los_Angeles:20220810T100000
DTEND;TZID=America/Los_Angeles:20220810T120000
DTSTAMP:20260425T063051
CREATED:20220801T171321Z
LAST-MODIFIED:20220915T183727Z
UID:10698-1660125600-1660132800@www.nevadaddcouncil.org
SUMMARY:Council Meeting
DESCRIPTION:FINAL NGCDD Meeting Minutes 8-10-22 \nNGCDD Meeting Minutes 8-10-22 DRAFT \nNGCDD Council Meeting Agenda 8-10-22
URL:https://www.nevadaddcouncil.org/meeting/council-meeting/
END:VEVENT
BEGIN:VEVENT
DTSTART;TZID=America/Los_Angeles:20220802T080000
DTEND;TZID=America/Los_Angeles:20220804T130000
DTSTAMP:20260425T063051
CREATED:20220607T185739Z
LAST-MODIFIED:20220622T155241Z
UID:10550-1659427200-1659618000@www.nevadaddcouncil.org
SUMMARY:Silver State Self-Advocacy Conference 2022
DESCRIPTION:Event Dates: August 2\, 3 & 4\, 2022 Event Location: Palace Station\, Las Vegas\, NV \n\n\n\nThe Nevada Governor’s Council on Developmental Disabilities invites you to attend the Silver State Self-Advocacy Conference 2022\, a conference by and for the I/DD community. \n\n\n\nThis event is in partnership with Nevada Aging and Disability Services\, the Nevada Disability Advocacy and Law Center\, the Nevada Center for Excellence in Disabilities\, Nevada Department of Education Office of Inclusive Education\, Nevada Blind Connect\, Nevada PEP\, Opportunity Village\, and the Statewide Independent Living Council. \n\n\n\nKeynote Speakers include Lacey Buchanan and Nina G! \n\n\n\nThis event is being held hybrid both in-person and virtually! \n\n\n\nRegistration is FREE and open to individuals with intellectual/developmental disabilities (I/DD)\, family members of those with I/DD\, and professionals who work in this community. Travel assistance is available on a limited basis and must be requested on your registration form. \n\n\n\nRegistration is closed. Conference agendas and additional materials will be sent in July 2022\, to all registered attendees. \n\n\n\nWe are also seeking speakers to host breakout sessions during the conference. If you are interested in presenting at the conference\, please fill out the application below by May 27\, 2022. Applicants will be notified by June 15\, 2022\, if they’ve been selected to present. \n\n\n\nIf you have any questions\, please contact Rebecca Ortiz\, at rortiz@dhhs.nv.gov or 775-684-8619.
URL:https://www.nevadaddcouncil.org/meeting/silver-state-self-advocacy-conference-2022/
LOCATION:Palace Station Hotel and Casino\, 2411 W Sahara Ave\, Las Vegas\, NV\, 89102\, United States
END:VEVENT
BEGIN:VEVENT
DTSTART;TZID=America/Los_Angeles:20220729T100000
DTEND;TZID=America/Los_Angeles:20220729T110000
DTSTAMP:20260425T063051
CREATED:20220725T161644Z
LAST-MODIFIED:20221114T233946Z
UID:10678-1659088800-1659092400@www.nevadaddcouncil.org
SUMMARY:NGCDD Budget Committee Meeting
DESCRIPTION:Final Budget Committee Minutes 7-29-22 \nBudget Committee Minutes 7-29-22 DRAFT \nBudget Committee Agenda 7-29-22 \nFFY 21 Cat 10 Breakdown \nFFY 22 Cat 10 Breakdown
URL:https://www.nevadaddcouncil.org/meeting/ngcdd-budget-committee-meeting/
END:VEVENT
BEGIN:VEVENT
DTSTART;TZID=America/Los_Angeles:20220721T100000
DTEND;TZID=America/Los_Angeles:20220721T110000
DTSTAMP:20260425T063051
CREATED:20220711T200715Z
LAST-MODIFIED:20220822T163230Z
UID:10661-1658397600-1658401200@www.nevadaddcouncil.org
SUMMARY:NGCDD Policy Committee Meeting
DESCRIPTION:FINAL Policy Committee Meeting Minutes 7-21-22 \nPolicy Committee Meeting Minutes 7-21-22 DRAFT \nPolicy Committee Agenda 7-21-22 \nPolicy Committee Meeting Minutes 6-16-22 DRAFT
URL:https://www.nevadaddcouncil.org/meeting/ngcdd-policy-committee-meeting/
END:VEVENT
BEGIN:VEVENT
DTSTART;TZID=America/Los_Angeles:20220714T100000
DTEND;TZID=America/Los_Angeles:20220714T110000
DTSTAMP:20260425T063051
CREATED:20220711T200551Z
LAST-MODIFIED:20220711T200750Z
UID:10657-1657792800-1657796400@www.nevadaddcouncil.org
SUMMARY:CANCELLED: NGCDD Budget Committee Meeting
DESCRIPTION:Budget Committee Agenda 7-14-22 \nBudget Committee Minutes 4-14-22 DRAFT
URL:https://www.nevadaddcouncil.org/meeting/cancelled-ngcdd-budget-committee-meeting/
END:VEVENT
BEGIN:VEVENT
DTSTART;TZID=America/Los_Angeles:20220628T100000
DTEND;TZID=America/Los_Angeles:20220628T120000
DTSTAMP:20260425T063051
CREATED:20220622T195014Z
LAST-MODIFIED:20220915T184335Z
UID:10602-1656410400-1656417600@www.nevadaddcouncil.org
SUMMARY:Executive Committee Meeting
DESCRIPTION:Executive Committee Meeting Minutes 6-28-22 APPROVED \nExecutive Committee Agenda 6-28-22 \nExecutive Committee Meeting Minutes 4-26-22 DRAFT \n 
URL:https://www.nevadaddcouncil.org/meeting/executive-committee-meeting-3/
END:VEVENT
BEGIN:VEVENT
DTSTART;TZID=America/Los_Angeles:20220624T100000
DTEND;TZID=America/Los_Angeles:20220624T120000
DTSTAMP:20260425T063051
CREATED:20220607T192640Z
LAST-MODIFIED:20220607T192640Z
UID:10564-1656064800-1656072000@www.nevadaddcouncil.org
SUMMARY:Notice of Funds Available Training #2
DESCRIPTION:Grantees are required to complete multi-level approaches to evaluating and measuring progress as well as comply with regulations\, assurances\, guidelines and requirements as they relate to the application\, acceptance and use of State of Nevada and Federal funds in the NGCDD Grants Manual as well as: \n\n\n\nElectronic Code of Federal Regulations\nState Administrative Manual\nAccessibility requirements of Section 508 of the Rehabilitation Act of 1973 and the Americans with Disabilities Act (ADA) of 1992\n\n\n\nSubmission Procedures\n\nRead our NGCDD Grants Manual\nAttend a mandatory Council Grant Training on either June 21 from 2:00-4:00 PM or June 24 9:00-11:00 AM. No registration is required but attendance is mandatory in order to apply for any of our grants.\nSubmit all completed application forms including assurances and budget to Council Staff by date below. You will receive more information on this process in the mandatory grant training.\n\nCompleted applications are due via email to Executive Assistant\, Rebecca Ortiz\, Rortiz@dhhs.nv.gov\, by 5:00 p.m. on July 26\, 2022. \nZoom Meeting Information: \nTopic: NOFA Training #2 (FFY 2023)\nTime: Jun 24\, 2022 09:00 AM Pacific Time (US and Canada) \nJoin Zoom Meeting\nhttps://us02web.zoom.us/j/81438649488?pwd=M3YxY1d5VTBQbGN2NG0rSTNjK3NIdz09 \nMeeting ID: 814 3864 9488\nPasscode: 766604 \nDirect Questions and Accommodation Requests To:\nNevada Governor’s Council on Developmental Disabilities \n808 West Nye Lane\, Carson City\, NV  89703 \nPhone: 775-684-8619 \nContact: Marisol Rivas \nEmail: mrivas@dhhs.nv.gov
URL:https://www.nevadaddcouncil.org/meeting/notice-of-funds-available-training-2/
END:VEVENT
BEGIN:VEVENT
DTSTART;TZID=America/Los_Angeles:20220621T140000
DTEND;TZID=America/Los_Angeles:20220621T160000
DTSTAMP:20260425T063051
CREATED:20220607T192451Z
LAST-MODIFIED:20220607T192451Z
UID:10562-1655820000-1655827200@www.nevadaddcouncil.org
SUMMARY:Notice of Funds Available Grant Training #1
DESCRIPTION:Grantees are required to complete multi-level approaches to evaluating and measuring progress as well as comply with regulations\, assurances\, guidelines and requirements as they relate to the application\, acceptance and use of State of Nevada and Federal funds in the NGCDD Grants Manual as well as: \n\n\n\nElectronic Code of Federal Regulations\nState Administrative Manual\nAccessibility requirements of Section 508 of the Rehabilitation Act of 1973 and the Americans with Disabilities Act (ADA) of 1992\n\n\n\nSubmission Procedures\n\nRead our NGCDD Grants Manual\nAttend a mandatory Council Grant Training on either June 21 from 2:00-4:00 PM or June 24 9:00-11:00 AM. No registration is required but attendance is mandatory in order to apply for any of our grants.\nSubmit all completed application forms including assurances and budget to Council Staff by date below. You will receive more information on this process in the mandatory grant training.\n\nCompleted applications are due via email to Executive Assistant\, Rebecca Ortiz\, Rortiz@dhhs.nv.gov\, by 5:00 p.m. on July 26\, 2022. \nZoom Meeting Information: \nTopic: NOFA Training #1 (FFY 2023)\nTime: Jun 21\, 2022 02:00 PM Pacific Time (US and Canada) \nJoin Zoom Meeting\nhttps://us02web.zoom.us/j/81303988592?pwd=dExtNnpZb0IrWlRMVEFLZFJwR0N1QT09 \nMeeting ID: 813 0398 8592\nPasscode: 876552 \nDirect Questions and Accommodation Requests To:\nNevada Governor’s Council on Developmental Disabilities \n808 West Nye Lane\, Carson City\, NV  89703 \nPhone: 775-684-8619 \nContact: Marisol Rivas \nEmail: mrivas@dhhs.nv.gov \n 
URL:https://www.nevadaddcouncil.org/meeting/notice-of-funds-available-grant-training-1/
END:VEVENT
BEGIN:VEVENT
DTSTART;TZID=America/Los_Angeles:20220617T170000
DTEND;TZID=America/Los_Angeles:20220617T190000
DTSTAMP:20260425T063051
CREATED:20220607T185024Z
LAST-MODIFIED:20220607T185109Z
UID:10547-1655485200-1655492400@www.nevadaddcouncil.org
SUMMARY:Journey of Hope 2022
DESCRIPTION:The Nevada Governor’s Council on Developmental Disabilities\, Western Nevada College\, and the Boys and Girls Club of Western Nevada invite you to host a vendor table at the Journey of Hope Friendship Visit in Carson City! \nWHEN : June 17th\, 2022 from 5 PM – 7 PM\nWHERE : The Boys and Girls Club of Western Nevada at 1870 Russell Way\, Carson City\, NV 89706\nFOR MORE INFORMATION : Ellen Marquez – Nevada Governor’s Council on Developmental Disabilities – elmarquez@dhhs.nv.gov or 775-684-8621. \nWe are pleased to present the 2022 Journey of Hope Carson City Friendship Event! This is an annual family friendly event where you can meet the team that rides an average of 75 miles a day and supports people with disabilities! \nYou will also have the opportunity to meet with vendors and other community members that serve the disability community\, as well as enjoy food\, music\, and fun! The vendor registration is FREE. We highly encourage you to register soon! Please use the form below to register! If you have any additional questions or concerns\, please contact us. \n**Vendor space is limited and will be on a first come\, first served basis. Registration will close when we’ve reached our max.** There is no vendor fee for our PACE events however; we ask that you consider donating an item for our raffle with a value of $15.00 or more. Please specify what raffle item you will be donating below. You will be provided with one 6’ table and 2 chairs. Electrical sources are unavailable. The display space will be available 30 minutes prior and after the event for set up and tear down. \nPlease note that unless it rains the vendor area will be outside so you may want to bring a pop-up\, sunscreen\, and a hat. The event location has changed from where it was last year\, so you should have shade as well! \nRegistration Link: https://docs.google.com/forms/d/e/1FAIpQLScjgz__D-vscbxXA1zJN0zc6Bv5s3KJD3V0XQsjj3b1JTThqQ/viewform?usp=sf_link
URL:https://www.nevadaddcouncil.org/meeting/journey-of-hope-2022/
END:VEVENT
BEGIN:VEVENT
DTSTART;TZID=America/Los_Angeles:20220616T100000
DTEND;TZID=America/Los_Angeles:20220616T120000
DTSTAMP:20260425T063051
CREATED:20220608T163945Z
LAST-MODIFIED:20220809T152444Z
UID:10559-1655373600-1655380800@www.nevadaddcouncil.org
SUMMARY:Policy Committee Meeting
DESCRIPTION:FINAL Policy Committee Meeting Minutes 6-16-22 \nNotice of Public Meeting \nNevada Governor’s Council on Developmental Disabilities (NGCDD) \nPolicy Committee  \nJune 16\, 2022 at 10:00 A.M. \n  \nIn-Person Meeting Location:\nDue to the nature of the public health emergency\, at this time\, the Council is not having in person meetings. \nTo Join Meeting by Zoom:\nJoin by Computer: https://us02web.zoom.us/j/87493919504 \nJoin by Phone: 669-900-6833 \nMeeting ID: 874 9391 9504 \n Those wishing to provide public comment may do so by joining the meeting submitting a written public comment by email to Ellen Marquez at: elmarquez@dhhs.nv.gov \nRelevant or supporting materials are available by contacting Rebecca Ortiz at 775-684-8619 or Rortiz@dhhs.nv.gov\, or on our website: www.nevadaddcouncil.org. \n1.     Call to Order\, Introductions\, and Verify Timely Posting of Agenda\nCommittee Chair or Vice Chair will call the meeting to order. NGCDD Staff will verify the timely posting of the agenda\, in accordance with Open Meeting Law. \n2.     Public Comment\nCommittee Chair or Vice Chair will call for public comment. No action may be taken on a matter raised under this item of the agenda until the matter itself has been specifically included on an agenda as an item upon which action will be taken. (Limit 5 minutes per person) \n3.     Approval of March 2022 Meeting Minutes\nFor Possible Action: Committee Chair or Vice Chair will open the floor for discussion and vote of the April 21st\, 2022 and May 19th\, 2022 Committee meeting minutes for approval\, denial or modification. \n4.     Council Policies\nFor Possible Action: Committee Chair or Vice Chair will invite NGCDD Executive Director\, Catherine Nielsen and Committee members\, to discuss the Council Consumer Leadership Development Fund and the Council Travel Policy\, and provide updates and edits for recommendation to the full Council for approval\, denial or modification. \n5.     Next Meeting Date\nThe next Policy Committee meeting is scheduled for July 21st\, 2022 at 10:00 a.m. via Zoom. \n6.     Public Comment\nCommittee Chair or Vice Chair will call for public comment. \nNo action may be taken on a matter raised under this item of the agenda until the matter itself has been specifically included on an agenda as an item upon which action may be taken. (Limit 5 minutes per person) \n7.     Adjournment\nCommittee Chair or Vice Chair will adjourn the meeting. \nMeeting Handouts: please contact our office for meeting handouts. At this time\, our website is experiencing issues with loading documents to events.
URL:https://www.nevadaddcouncil.org/meeting/policy-committee-meeting-4/
END:VEVENT
BEGIN:VEVENT
DTSTART;TZID=America/Los_Angeles:20220602T090000
DTEND;TZID=America/Los_Angeles:20220602T160000
DTSTAMP:20260425T063051
CREATED:20220523T185528Z
LAST-MODIFIED:20220915T183702Z
UID:10500-1654160400-1654185600@www.nevadaddcouncil.org
SUMMARY:NGCDD Council Meeting
DESCRIPTION:FINAL NGCDD Meeting Minutes 6-2-22 \nCouncil Meeting Agenda 6-2-22 \nAccessible CLDF Policy with Proposed Changes \nADVANCEMENT OF TRAVEL AND COMMERCIAL TRANSPORTATION FOR COUNCIL MEMBERS POLICY \nADVANCEMENT OF TRAVEL AND COMMERCIAL TRANSPORTATION FOR NON COUNCIL MEMBERS POLICY \nBudget Committee Minutes 4-14-22 DRAFT \nBullying Publication with Watermarks \nConference Flyer \nCouncil By-Laws Updated Not Signed with Highlights \nEvaluation Committee Meeting Minutes 2-10-22 DRAFT \nEvaluation Committee Meeting Minutes 5-12-22 DRAFT \nExecutive Committee Meeting Minutes 3-10-22 APPROVED \nExecutive Committee Meeting Minutes 4-26-22 DRAFT \nFFY 21 Cat 10 Breakdown \nFFY 22 Cat 10 Breakdown \nFFY 2023 NGCDD Activities\, Timeline and Funding Matrix – Recommended \nFFY 2023 NGCDD Activities\, Timeline and Funding Matrix – Updated \nNGCDD FFY ’22 Second Quarter Project Status Summary Report \nNGCDD Governance Policy with ED Fund Adjustment \nNGCDD Meeting Minutes 3-3-22 DRAFT \nPolicy Committee Meeting Minutes 3-17-22 APPROVED with Corrections \nPolicy Committee Meeting Minutes 4-21-22 DRAFT \nPolicy Committee Meeting Minutes 5-19.-22 DRAFT \nStatewide Transportation Associations Report (Attachment 1) \n 
URL:https://www.nevadaddcouncil.org/meeting/ngcdd-council-meeting/
END:VEVENT
BEGIN:VEVENT
DTSTART;TZID=America/Los_Angeles:20220519T100000
DTEND;TZID=America/Los_Angeles:20220519T120000
DTSTAMP:20260425T063051
CREATED:20220511T222017Z
LAST-MODIFIED:20220511T222017Z
UID:10488-1652954400-1652961600@www.nevadaddcouncil.org
SUMMARY:Policy Committee Meeting
DESCRIPTION:Policy Committee Agenda 5-19-22 \nPolicy Committee Meeting Minutes 4-21-22 DRAFT \nAccessible CLDF Policy
URL:https://www.nevadaddcouncil.org/meeting/policy-committee-meeting-3/
END:VEVENT
BEGIN:VEVENT
DTSTART;TZID=America/Los_Angeles:20220512T100000
DTEND;TZID=America/Los_Angeles:20220512T120000
DTSTAMP:20260425T063051
CREATED:20220429T225833Z
LAST-MODIFIED:20220811T223104Z
UID:10474-1652349600-1652356800@www.nevadaddcouncil.org
SUMMARY:Evaluation Committee Meeting 5-12-22
DESCRIPTION:Final Evaluation Committee Meeting Minutes 5-12-22 \nEvaluation Committee Agenda 5-12-22 \nEvaluation Committee Meeting Minutes 2-10-22 DRAFT \nNGCDD FFY ’22 Second Quarter Project Status Summary Report \nStatewide Transportation Associations Report (Attachment 1) \nFFY 2023 NGCDD Activities\, Timeline and Funding Matrix – Recommended \nFFY 2023 NGCDD Activities\, Timeline and Funding Matrix – Updated
URL:https://www.nevadaddcouncil.org/meeting/evaluation-committee-meeting-5-12-22/
END:VEVENT
BEGIN:VEVENT
DTSTART;TZID=America/Los_Angeles:20220426T100000
DTEND;TZID=America/Los_Angeles:20220426T120000
DTSTAMP:20260425T063051
CREATED:20220415T180429Z
LAST-MODIFIED:20220415T180626Z
UID:10463-1650967200-1650974400@www.nevadaddcouncil.org
SUMMARY:Executive Committee Meeting
DESCRIPTION:Executive Committee Agenda 4-26-22 \nExecutive Committee Meeting Minutes 3-10-22 DRAFT \nNGCDD Governance Policy with ED Fund Adjustment
URL:https://www.nevadaddcouncil.org/meeting/executive-committee-meeting-2/
END:VEVENT
BEGIN:VEVENT
DTSTART;TZID=America/Los_Angeles:20220421T100000
DTEND;TZID=America/Los_Angeles:20220421T120000
DTSTAMP:20260425T063051
CREATED:20220415T180250Z
LAST-MODIFIED:20220415T194321Z
UID:10461-1650535200-1650542400@www.nevadaddcouncil.org
SUMMARY:Policy Committee Meeting
DESCRIPTION:Policy Committee Agenda 4-21-22 \nPolicy Committee Meeting Minutes 3-17-22 DRAFT \nCouncil By-Laws Updated Not Signed with Highlights
URL:https://www.nevadaddcouncil.org/meeting/policy-committee-meeting-2/
END:VEVENT
BEGIN:VEVENT
DTSTART;TZID=America/Los_Angeles:20220414T100000
DTEND;TZID=America/Los_Angeles:20220414T120000
DTSTAMP:20260425T063051
CREATED:20220407T221219Z
LAST-MODIFIED:20220809T152641Z
UID:10451-1649930400-1649937600@www.nevadaddcouncil.org
SUMMARY:Budget Committee Meeting
DESCRIPTION:FINAL Budget Committee Minutes 4-14-22 \nBudget Committee Agenda 4-14-22 \nBudget Committee Minutes 1-13-22 DRAFT \nFFY 2023 NGCDD Activities\, Timeline and Funding Matrix
URL:https://www.nevadaddcouncil.org/meeting/budget-committee-meeting/
END:VEVENT
BEGIN:VEVENT
DTSTART;TZID=America/Los_Angeles:20220407T100000
DTEND;TZID=America/Los_Angeles:20220407T120000
DTSTAMP:20260425T063051
CREATED:20220325T161233Z
LAST-MODIFIED:20220405T150626Z
UID:10438-1649325600-1649332800@www.nevadaddcouncil.org
SUMMARY:Executive Committee Meeting (CANCELED)
DESCRIPTION:Executive Committee Agenda 4-7-22 \nExecutive Committee Meeting Minutes 3-10-22 DRAFT \nNGCDD Governance Policy with ED Fund Adjustment
URL:https://www.nevadaddcouncil.org/meeting/executive-committee-meeting/
END:VEVENT
BEGIN:VEVENT
DTSTART;TZID=America/Los_Angeles:20220317T100000
DTEND;TZID=America/Los_Angeles:20220317T120000
DTSTAMP:20260425T063051
CREATED:20220318T181712Z
LAST-MODIFIED:20220318T181712Z
UID:10423-1647511200-1647518400@www.nevadaddcouncil.org
SUMMARY:Policy Committee Meeting
DESCRIPTION:Policy Committee Agenda 3-17-22
URL:https://www.nevadaddcouncil.org/meeting/policy-committee-meeting/
END:VEVENT
END:VCALENDAR