BEGIN:VCALENDAR
VERSION:2.0
PRODID:-//Nevada Governor&#039;s Council on Developmental Disabilities - ECPv6.15.10//NONSGML v1.0//EN
CALSCALE:GREGORIAN
METHOD:PUBLISH
X-WR-CALNAME:Nevada Governor&#039;s Council on Developmental Disabilities
X-ORIGINAL-URL:https://www.nevadaddcouncil.org
X-WR-CALDESC:Events for Nevada Governor&#039;s Council on Developmental Disabilities
REFRESH-INTERVAL;VALUE=DURATION:PT1H
X-Robots-Tag:noindex
X-PUBLISHED-TTL:PT1H
BEGIN:VTIMEZONE
TZID:America/Los_Angeles
BEGIN:DAYLIGHT
TZOFFSETFROM:-0800
TZOFFSETTO:-0700
TZNAME:PDT
DTSTART:20220313T100000
END:DAYLIGHT
BEGIN:STANDARD
TZOFFSETFROM:-0700
TZOFFSETTO:-0800
TZNAME:PST
DTSTART:20221106T090000
END:STANDARD
BEGIN:DAYLIGHT
TZOFFSETFROM:-0800
TZOFFSETTO:-0700
TZNAME:PDT
DTSTART:20230312T100000
END:DAYLIGHT
BEGIN:STANDARD
TZOFFSETFROM:-0700
TZOFFSETTO:-0800
TZNAME:PST
DTSTART:20231105T090000
END:STANDARD
BEGIN:DAYLIGHT
TZOFFSETFROM:-0800
TZOFFSETTO:-0700
TZNAME:PDT
DTSTART:20240310T100000
END:DAYLIGHT
BEGIN:STANDARD
TZOFFSETFROM:-0700
TZOFFSETTO:-0800
TZNAME:PST
DTSTART:20241103T090000
END:STANDARD
BEGIN:DAYLIGHT
TZOFFSETFROM:-0800
TZOFFSETTO:-0700
TZNAME:PDT
DTSTART:20250309T100000
END:DAYLIGHT
BEGIN:STANDARD
TZOFFSETFROM:-0700
TZOFFSETTO:-0800
TZNAME:PST
DTSTART:20251102T090000
END:STANDARD
END:VTIMEZONE
BEGIN:VEVENT
DTSTART;TZID=America/Los_Angeles:20240513T150000
DTEND;TZID=America/Los_Angeles:20240513T150000
DTSTAMP:20260425T052740
CREATED:20240506T194147Z
LAST-MODIFIED:20240712T163418Z
UID:12451-1715612400-1715612400@www.nevadaddcouncil.org
SUMMARY:NGCDD Executive Committee Meeting RESCHEDULED
DESCRIPTION:Final Executive Committee Meeting Minutes 5-13-24 \nExecutive Committee Meeting Minutes 5-13-24 DRAFT \nExecutive Committee Agenda 5-13-24 \nExecutive Committee Meeting Minutes 4-4-24 DRAFT \nBreakdown of Expenses \nFFY 2025 NGCDD Activities\, Timeline and Funding Matrix Executive Committee Discussion 1 \n 
URL:https://www.nevadaddcouncil.org/meeting/ngcdd-executive-committee-meeting-rescheduled/
END:VEVENT
BEGIN:VEVENT
DTSTART;TZID=America/Los_Angeles:20240513T100000
DTEND;TZID=America/Los_Angeles:20240513T100000
DTSTAMP:20260425T052740
CREATED:20240506T191602Z
LAST-MODIFIED:20240516T165333Z
UID:12440-1715594400-1715594400@www.nevadaddcouncil.org
SUMMARY:NGCDD Evaluation Committee Meeting CANCELLED
DESCRIPTION:Evaluation Committee Agenda 5-13-24 \nEvaluation Committee Meeting Minutes 2-8-24 DRAFT \nPress Release Nevada April 2024 (GTC) \nNGCDD FFY 24′ Second Quarter Project Status Summary Report \nBreakdown of Expenses (with Activity Info) \nFFY 2025 NGCDD Activities\, Timeline and Funding Matrix Evaluation Committee Discussion
URL:https://www.nevadaddcouncil.org/meeting/ngcdd-evaluation-committee-meeting-7/
END:VEVENT
BEGIN:VEVENT
DTSTART;TZID=America/Los_Angeles:20240502T100000
DTEND;TZID=America/Los_Angeles:20240502T100000
DTSTAMP:20260425T052740
CREATED:20240425T211907Z
LAST-MODIFIED:20240503T211445Z
UID:12405-1714644000-1714644000@www.nevadaddcouncil.org
SUMMARY:NGCDD Executive Committee Meeting CANCELLED
DESCRIPTION:Executive Committee Agenda 5-2-24 \nExecutive Committee Meeting Minutes 4-4-24 DRAFT \nBreakdown of Expenses \nFFY 2025 NGCDD Activities\, Timeline and Funding Matrix Executive Committee Discussion 1
URL:https://www.nevadaddcouncil.org/meeting/ngcdd-executive-committee-meeting-8/
END:VEVENT
BEGIN:VEVENT
DTSTART;TZID=America/Los_Angeles:20240425T100000
DTEND;TZID=America/Los_Angeles:20240425T100000
DTSTAMP:20260425T052740
CREATED:20240422T151839Z
LAST-MODIFIED:20240701T205242Z
UID:12398-1714039200-1714039200@www.nevadaddcouncil.org
SUMMARY:NGCDD Policy Committee Meeting
DESCRIPTION:Final Policy Committee Meeting Minutes 4-25-24 \nPolicy Committee Meeting Minutes 4-25-24 DRAFT \nPolicy Committee Agenda 4-25-24 \nPolicy Committee Meeting Minutes 3-21-24 DRAFT \nPosition on Ableism \nPosition on Education \nPosition on Employment \nPosition on Human and Civil Rights \nPosition on Language Access \nPosition on Transportation
URL:https://www.nevadaddcouncil.org/meeting/ngcdd-policy-committee-meeting-11/
END:VEVENT
BEGIN:VEVENT
DTSTART;TZID=America/Los_Angeles:20240404T100000
DTEND;TZID=America/Los_Angeles:20240404T100000
DTSTAMP:20260425T052740
CREATED:20240327T152755Z
LAST-MODIFIED:20240516T165456Z
UID:12370-1712224800-1712224800@www.nevadaddcouncil.org
SUMMARY:NGCDD Executive Committee Meeting
DESCRIPTION:FINAL Executive Committee Meeting Minutes 4-4-24 \nExecutive Committee Meeting Minutes 4-4-24 DRAFT \nExecutive Committee Agenda 4-4-24 \nExecutive Committee Meeting Minutes 2-1-24 DRAFT \nCHILD CARE AND PERSONAL CARE ATTENDANT SERVICES FOR COUNCIL MEMBERS AND NON-COUNCIL MEMBERS POLICY
URL:https://www.nevadaddcouncil.org/meeting/ngcdd-executive-committee-meeting-7/
END:VEVENT
BEGIN:VEVENT
DTSTART;TZID=America/Los_Angeles:20240321T100000
DTEND;TZID=America/Los_Angeles:20240321T100000
DTSTAMP:20260425T052740
CREATED:20240313T233223Z
LAST-MODIFIED:20240322T185340Z
UID:12334-1711015200-1711015200@www.nevadaddcouncil.org
SUMMARY:NGCDD Policy Committee Meeting
DESCRIPTION:Policy Committee Meeting Minutes 3-21-24 DRAFT \nPolicy Committee Agenda 3-21-24 \nPolicy Committee Meeting Minutes 1-18-24 DRAFT \nPosition on Ableism \nPosition on Accessibility \nPosition on Accountability\, Inclusion\, and Transparency \nPosition on Aging \nPosition on Charter Schools \nPosition on Community Support \nPosition on Education \nPosition on Employment \nPosition on Health Care \nPosition on Housing \nPosition on Human and Civil Rights \nPosition on Informed Choice \nPosition on Language Access \nPosition on Mental Health Care \nPosition on SDM and Guardianship \nPosition on Sexual Health \nPosition on Transportation \nPosition on Voting \nDraft Position on Emergency Preparedness
URL:https://www.nevadaddcouncil.org/meeting/ngcdd-policy-committee-meeting-10/
END:VEVENT
BEGIN:VEVENT
DTSTART;TZID=America/Los_Angeles:20240307T090000
DTEND;TZID=America/Los_Angeles:20240307T090000
DTSTAMP:20260425T052740
CREATED:20240221T181001Z
LAST-MODIFIED:20240613T165526Z
UID:12284-1709802000-1709802000@www.nevadaddcouncil.org
SUMMARY:NGCDD Full Council Meeting
DESCRIPTION:Final NGCDD Meeting Minutes 3-7-24 \nNGCDD Meeting Minutes 3-7-24 DRAFT \nFull Council Meeting Agenda 3-7-24 \nNGCDD Meeting Minutes 12-7-23 DRAFT \nNGCDD 2024 Calendar \nNGCDD 2024 Calendar with Corrections from Meeting \nFFY 24 No Cost Extension Reobligation of Funds \nDRAFT Position Statement on Sexual Health \nDRAFT Position Statement on Sexual Health with changes \nDRAFT Position Statement on Human and Civil Rights \nDRAFT Position on Mental Health \nDRAFT Position on Health Care \nDRAFT Position on Health Care with changes \nDRAFT NGCDD FFY ’23 Fourth Quarter Project Status Summary Report \nACL-DDC-PHWF-9-12-22-9-30-23 \nACL 2023 Reporting \nCouncil Member Handbook (Revised Draft ) \nCCF Presentation Deck_Gov Council Meeting \nCCF_Organization Overview 8.31.23
URL:https://www.nevadaddcouncil.org/meeting/ngcdd-full-council-meeting-6/
END:VEVENT
BEGIN:VEVENT
DTSTART;TZID=America/Los_Angeles:20240215T100000
DTEND;TZID=America/Los_Angeles:20240215T100000
DTSTAMP:20260425T052740
CREATED:20240209T192622Z
LAST-MODIFIED:20240520T222947Z
UID:12252-1707991200-1707991200@www.nevadaddcouncil.org
SUMMARY:NGCDD Budget Committee Meeting
DESCRIPTION:FINAL Budget Committee Minutes 2-15-24 \nBudget Committee Minutes 2-15-24 DRAFT \nBudget Committee Agenda 2-15-24 \nBudget Committee Minutes 8-17-23 DRAFT \nFFY 24 Cat 10 Breakdown – Original Grant \nFFY 24 Cat 10 Breakdown – No Cost Ext Funds
URL:https://www.nevadaddcouncil.org/meeting/ngcdd-budget-committee-meeting-7/
END:VEVENT
BEGIN:VEVENT
DTSTART;TZID=America/Los_Angeles:20240208T100000
DTEND;TZID=America/Los_Angeles:20240208T100000
DTSTAMP:20260425T052740
CREATED:20240205T162633Z
LAST-MODIFIED:20240819T204428Z
UID:12211-1707386400-1707386400@www.nevadaddcouncil.org
SUMMARY:NGCDD Evaluation Committee Meeting
DESCRIPTION:FINAL Evaluation Committee Meeting Minutes 2-8-24 \nEvaluation Committee Meeting Minutes 2-8-24 DRAFT \nEvaluation Committee Agenda 2-8-24 \nEvaluation Committee Meeting Minutes 11-9-23 DRAFT \nNGCDD FFY ’24 1st Quarter Project Status Summary Report
URL:https://www.nevadaddcouncil.org/meeting/ngcdd-evaluation-committee-meeting-6/
END:VEVENT
BEGIN:VEVENT
DTSTART;TZID=America/Los_Angeles:20240201T100000
DTEND;TZID=America/Los_Angeles:20240201T100000
DTSTAMP:20260425T052740
CREATED:20240129T160254Z
LAST-MODIFIED:20240416T183001Z
UID:12202-1706781600-1706781600@www.nevadaddcouncil.org
SUMMARY:NGCDD Executive Committee Meeting
DESCRIPTION:FINAL Executive Committee Meeting Minutes 2-1-24 \nExecutive Committee Meeting Minutes 2-1-24 DRAFT \nExecutive Committee Agenda 2-1-24 \nExecutive Committee Meeting Minutes 1-4-24 DRAFT
URL:https://www.nevadaddcouncil.org/meeting/ngcdd-executive-committee-meeting-6/
END:VEVENT
BEGIN:VEVENT
DTSTART;TZID=America/Los_Angeles:20240118T100000
DTEND;TZID=America/Los_Angeles:20240118T100000
DTSTAMP:20260425T052740
CREATED:20240110T200753Z
LAST-MODIFIED:20240322T185359Z
UID:12186-1705572000-1705572000@www.nevadaddcouncil.org
SUMMARY:NGCDD Policy Committee Meeting
DESCRIPTION:FINAL Policy Committee Meeting Minutes 1-18-24 \nPolicy Committee Meeting Minutes 1-18-24 DRAFT \nPolicy Committee Agenda 1-18-24 \nPolicy Committee Meeting Minutes 9-28-23 DRAFT \nDRAFT Position on Health Care \nDRAFT Position Statement on Sexual Health
URL:https://www.nevadaddcouncil.org/meeting/ngcdd-policy-committee-meeting-9/
END:VEVENT
BEGIN:VEVENT
DTSTART;TZID=America/Los_Angeles:20240104T100000
DTEND;TZID=America/Los_Angeles:20240104T100000
DTSTAMP:20260425T052740
CREATED:20231228T224229Z
LAST-MODIFIED:20240201T201917Z
UID:12166-1704362400-1704362400@www.nevadaddcouncil.org
SUMMARY:NCDD Executive Committee Meeting
DESCRIPTION:FINAL Executive Committee Meeting Minutes 1-4-24 \nExecutive Committee Meeting Minutes 1-4-24 DRAFT \nExecutive Committee Agenda 1-4-24 \nExecutive Committee Meeting Minutes 11-2-23 DRAFT \nEXECUTIVE DIRECTOR DISCRETIONARY FUND POLICY \nMEMBER ATTENDANCE POLICY
URL:https://www.nevadaddcouncil.org/meeting/ncdd-executive-committee-meeting/
END:VEVENT
BEGIN:VEVENT
DTSTART;TZID=America/Los_Angeles:20231207T090000
DTEND;TZID=America/Los_Angeles:20231207T090000
DTSTAMP:20260425T052740
CREATED:20231130T215415Z
LAST-MODIFIED:20240318T193250Z
UID:12085-1701939600-1701939600@www.nevadaddcouncil.org
SUMMARY:NGCDD Full Council Meeting
DESCRIPTION:Final NGCDD Meeting Minutes 12-7-23 \nNGCDD Meeting Minutes 12-7-23 DRAFT \nFull Council Meeting Agenda 12-7-23 \nNGCDD Meeting Minutes 9-7-23 DRAFT \nACL 2023 Reporting \nACL-DDC-PHWF-9-12-22-9-30-23 \nDRAFT NGCDD FFY ’23 Fourth Quarter Project Status Summary Report \nDRAFT Position on Health Care \nDRAFT Position on Mental Health \nDRAFT Position Statement on Human and Civil Rights \nDRAFT Position Statement on Sexual Health \nFFY 24 No Cost Extension Reobligation of Funds \nNGCDD 2024 Calendar \nNGCDD 2024 Calendar with Corrections from Meeting \nNGDCC Presentation Rebeka Acosta
URL:https://www.nevadaddcouncil.org/meeting/ngcdd-full-council-meeting-5/
END:VEVENT
BEGIN:VEVENT
DTSTART;TZID=America/Los_Angeles:20231116T100000
DTEND;TZID=America/Los_Angeles:20231116T100000
DTSTAMP:20260425T052740
CREATED:20231107T170231Z
LAST-MODIFIED:20240215T233314Z
UID:11994-1700128800-1700128800@www.nevadaddcouncil.org
SUMMARY:NGCDD Budget Committee Meeting CANCELLED
DESCRIPTION:Budget Committee Agenda 11-16-23 \nBudget Committee Minutes 8-17-23 DRAFT
URL:https://www.nevadaddcouncil.org/meeting/ngcdd-budget-committee-meeting-6/
END:VEVENT
BEGIN:VEVENT
DTSTART;TZID=America/Los_Angeles:20231109T100000
DTEND;TZID=America/Los_Angeles:20231109T100000
DTSTAMP:20260425T052740
CREATED:20231106T155857Z
LAST-MODIFIED:20240212T193230Z
UID:11977-1699524000-1699524000@www.nevadaddcouncil.org
SUMMARY:NGCDD Evaluation Committee Meeting
DESCRIPTION:FINAL Evaluation Committee Meeting Minutes 11-9-23 \nEvaluation Committee Meeting Minutes 11-9-23 DRAFT \nEvaluation Committee Agenda 11-9-23 \nEvaluation Committee Meeting Minutes 8-10-23 DRAFT \nFFY 24 No Cost Extension Reobligation of Funds \nDRAFT NGCDD FFY ’23 Fourth Quarter Project Status Summary Report \nACL-DDC-PHWF-9-12-22-9-30-23 \nACL 2023 Reporting
URL:https://www.nevadaddcouncil.org/meeting/ngcdd-evaluation-committee-meeting-5/
END:VEVENT
BEGIN:VEVENT
DTSTART;TZID=America/Los_Angeles:20231102T100000
DTEND;TZID=America/Los_Angeles:20231102T100000
DTSTAMP:20260425T052740
CREATED:20231024T192402Z
LAST-MODIFIED:20240110T195645Z
UID:11953-1698919200-1698919200@www.nevadaddcouncil.org
SUMMARY:NGCDD Executive Committee Meeting
DESCRIPTION:Final Executive Committee Meeting Minutes 11-2-23 \nExecutive Committee Meeting Minutes 11-2-23 DRAFT \nExecutive Committee Agenda 11-2-23 \nExecutive Committee Meeting Minutes 10-12-23 DRAFT
URL:https://www.nevadaddcouncil.org/meeting/ngcdd-executive-committee-meeting-5/
END:VEVENT
BEGIN:VEVENT
DTSTART;TZID=America/Los_Angeles:20231012T100000
DTEND;TZID=America/Los_Angeles:20231012T100000
DTSTAMP:20260425T052740
CREATED:20230928T220802Z
LAST-MODIFIED:20231106T204844Z
UID:11898-1697104800-1697104800@www.nevadaddcouncil.org
SUMMARY:NGCDD Executive Committee Meeting
DESCRIPTION:FINAL Executive Committee Meeting Minutes 10-12-23 \nExecutive Committee Meeting Minutes 10-12-23 DRAFT \nExecutive Committee Agenda 10-12-23 (updated) \nExecutive Committee Meeting Minutes 8-3-23 DRAFT \nMEMORANDUM OF UNDERSTANDING WITH STATE AGENCY POLICY
URL:https://www.nevadaddcouncil.org/meeting/ngcdd-executive-committee-meeting-4/
END:VEVENT
BEGIN:VEVENT
DTSTART;TZID=America/Los_Angeles:20230928T100000
DTEND;TZID=America/Los_Angeles:20230928T100000
DTSTAMP:20260425T052740
CREATED:20230919T213732Z
LAST-MODIFIED:20240119T183811Z
UID:11831-1695895200-1695895200@www.nevadaddcouncil.org
SUMMARY:NGCDD Policy Committee Meeting
DESCRIPTION:Final Policy Committee Meeting Minutes 9-28-23 \nPolicy Committee Meeting Minutes 9-28-23 DRAFT \nPolicy Committee Agenda 9-28-23 \nPolicy Committee Meeting Minutes 8-24-23 DRAFT \nDRAFT Position on Health Care \nDRAFT Position on Mental Health \nDRAFT Position Statement on Human and Civil Rights \nDRAFT Position Statement on Sexual Health
URL:https://www.nevadaddcouncil.org/meeting/ngcdd-policy-committee-meeting-8/
END:VEVENT
BEGIN:VEVENT
DTSTART;TZID=America/Los_Angeles:20230907T090000
DTEND;TZID=America/Los_Angeles:20230907T090000
DTSTAMP:20260425T052740
CREATED:20230824T191656Z
LAST-MODIFIED:20231220T230941Z
UID:11594-1694077200-1694077200@www.nevadaddcouncil.org
SUMMARY:NGCDD Full Council Meeting
DESCRIPTION:FINAL NGCDD Meeting Minutes 9-7-23 \nNGCDD Meeting Minutes 9-7-23 DRAFT \nNV IDD groups Sept 2023 \nFFY 2024 NGCDD Activities\, Timeline and Funding Matrix \nFull Council Meeting Agenda 9-7-23 \nNGCDD Meeting Minutes 6-1-23 DRAFT \nPacket 1: Meeting Materials \nBudget Committee Minutes 8-17-23 DRAFT \nExecutive Committee Meeting Minutes 8-3-23 DRAFT \nEXECUTIVE DIRECTOR EVALUATION PROCESS POLICY \nPolicy Committee Meeting Minutes 6-22-23 DRAFT \nDRAFT Position Statement on Aging \nDRAFT Position Statement on Education \nDRAFT Position Statement on Human and Civil Rights \nDRAFT Position on Health Care \nDRAFT Position on Mental Health \nDRAFT Position Statement on Sexual Health \nNGCDD FFY ’23 Third Quarter Project Status Summary Report \nPacket 2: NOFA Applications \nFFY 2024 NOFA’s \nCheat Sheet for NOFAs FFY24 \nNOFA Evaluation Scoring Form \nEvaluation Committee Meeting Minutes 8-10-23 DRAFT \nGTC FFY-2024-application form \nBest Buddies FFY-2024-Application \nBest Buddies FFY-2024-Budget-and-Assurances-Form – Signed \nJustIn Hope FFY-2024-Application-Form \nJustIn Hope FFY-2024-Budget-and-Assurances-Form \nGiGis Playhouse Las Vegas FFY-2024-Application-Form \nGiGis Playhouse Las Vegas FFY-2024-Budget-and-Assurances-Form \nNV SILC FFY 2024 Application Form \nNV SILC FFY24 Budget and Assurances Form \n  \n 
URL:https://www.nevadaddcouncil.org/meeting/ngcdd-full-council-meeting-4/
END:VEVENT
BEGIN:VEVENT
DTSTART;TZID=America/Los_Angeles:20230901T100000
DTEND;TZID=America/Los_Angeles:20230901T100000
DTSTAMP:20260425T052740
CREATED:20230823T174122Z
LAST-MODIFIED:20230823T174127Z
UID:11590-1693562400-1693562400@www.nevadaddcouncil.org
SUMMARY:2024 Self-Advocacy Conference Planning Committee
DESCRIPTION:Join Zoom Meeting\nhttps://us02web.zoom.us/j/89033527966?pwd=dkt4ZHphM3Q5NHRqS29CUWFNeERSZz09 \nMeeting ID: 890 3352 7966\nPasscode: 084481
URL:https://www.nevadaddcouncil.org/meeting/2024-self-advocacy-conference-planning-committee/
END:VEVENT
BEGIN:VEVENT
DTSTART;TZID=America/Los_Angeles:20230824T100000
DTEND;TZID=America/Los_Angeles:20230824T100000
DTSTAMP:20260425T052740
CREATED:20230818T151058Z
LAST-MODIFIED:20231002T215229Z
UID:11573-1692871200-1692871200@www.nevadaddcouncil.org
SUMMARY:NGCDD Policy Committee Meeting
DESCRIPTION:FINAL Policy Committee Meeting Minutes 8-24-23 \nPolicy Committee Meeting Minutes 8-24-23 DRAFT \nPolicy Committee Agenda 8-24-23 \nPolicy Committee Meeting Minutes 6-22-23 DRAFT \nDRAFT Position Statement on Sexual Health \nDRAFT Position on Health Care \nDRAFT Position on Mental Health \n 
URL:https://www.nevadaddcouncil.org/meeting/policy-committee-meeting-6/
END:VEVENT
BEGIN:VEVENT
DTSTART;TZID=America/Los_Angeles:20230817T100000
DTEND;TZID=America/Los_Angeles:20230817T100000
DTSTAMP:20260425T052740
CREATED:20230808T200257Z
LAST-MODIFIED:20240215T233435Z
UID:11545-1692266400-1692266400@www.nevadaddcouncil.org
SUMMARY:NGCDD Budget Committee Meeting
DESCRIPTION:FINAL Budget Committee Minutes 8-17-23 \nBudget Committee Minutes 8-17-23 DRAFT \nBudget Committee Agenda 8-17-23 \nBudget Committee Minutes 5-18-23 DRAFT \nFFY 2024 NGCDD Activities\, Timeline and Funding Matrix
URL:https://www.nevadaddcouncil.org/meeting/ngcdd-budget-committee-meeting-5/
END:VEVENT
BEGIN:VEVENT
DTSTART;TZID=America/Los_Angeles:20230810T100000
DTEND;TZID=America/Los_Angeles:20230810T100000
DTSTAMP:20260425T052740
CREATED:20230801T154112Z
LAST-MODIFIED:20231114T225953Z
UID:11529-1691661600-1691661600@www.nevadaddcouncil.org
SUMMARY:NGCDD Evaluation Committee Meeting
DESCRIPTION:Final Evaluation Committee Meeting Minutes 8-10-23 \nEvaluation Committee Meeting Minutes 8-10-23 DRAFT \nEvaluation Committee Agenda 8-10-23 \nEvaluation Committee Meeting Minutes 5-11-23 DRAFT \nFFY 2024 NOFA’s \nNGCDD FFY ’23 Third Quarter Project Status Summary Report \nNGCDD Grants Manual 2023
URL:https://www.nevadaddcouncil.org/meeting/ngcdd-evaluation-committee-meeting-4/
END:VEVENT
BEGIN:VEVENT
DTSTART;TZID=America/Los_Angeles:20230803T100000
DTEND;TZID=America/Los_Angeles:20230803T100000
DTSTAMP:20260425T052740
CREATED:20230720T211524Z
LAST-MODIFIED:20231018T183211Z
UID:11521-1691056800-1691056800@www.nevadaddcouncil.org
SUMMARY:NGCDD Executive Committee Meeting
DESCRIPTION:Executive Committee Meeting Minutes 8-3-23 FINAL \nExecutive Committee Meeting Minutes 8-3-23 DRAFT \nExecutive Committee Agenda 8-3-23 \nExecutive Committee Meeting Minutes 5-4-23 DRAFT \nEXECUTIVE DIRECTOR EVALUATION PROCESS POLICY \nAccessible CLDF Policy \n 
URL:https://www.nevadaddcouncil.org/meeting/executive-committee-meeting-6/
END:VEVENT
BEGIN:VEVENT
DTSTART;TZID=America/Los_Angeles:20230720T090000
DTEND;TZID=America/Los_Angeles:20230720T090000
DTSTAMP:20260425T052740
CREATED:20230627T155402Z
LAST-MODIFIED:20230829T225707Z
UID:11496-1689843600-1689843600@www.nevadaddcouncil.org
SUMMARY:NGCDD Policy Committee Meeting (CANCELLED)
DESCRIPTION:Policy Committee Agenda 7-20-23 \nPolicy Committee Meeting Minutes 6-22-23 DRAFT \nBill Tracker for Legislative Year 2023 \nPosition on Health Care \nPosition on Mental Health
URL:https://www.nevadaddcouncil.org/meeting/ngcdd-policy-committee-meeting-7/
END:VEVENT
BEGIN:VEVENT
DTSTART;TZID=America/Los_Angeles:20230622T100000
DTEND;TZID=America/Los_Angeles:20230622T100000
DTSTAMP:20260425T052740
CREATED:20230613T181102Z
LAST-MODIFIED:20230829T225746Z
UID:11465-1687428000-1687428000@www.nevadaddcouncil.org
SUMMARY:NGCDD Policy Committee Meeting
DESCRIPTION:FINAL Policy Committee Meeting Minutes 6-22-23 \nPolicy Committee Meeting Minutes 6-22-23 DRAFT \nPolicy Committee Agenda 6-22-23 \nPolicy Committee Meeting Minutes 4-13-23 DRAFT \nBill Tracker for Legislative Year 2023 \nDRAFT Position Statement on Aging \nDRAFT Position Statement on Education \nDRAFT Position Statement on Human and Civil Rights
URL:https://www.nevadaddcouncil.org/meeting/ngcdd-policy-committee-meeting-6/
END:VEVENT
BEGIN:VEVENT
DTSTART;TZID=America/Los_Angeles:20230601T090000
DTEND;TZID=America/Los_Angeles:20230601T090000
DTSTAMP:20260425T052740
CREATED:20230511T152408Z
LAST-MODIFIED:20230915T202415Z
UID:11372-1685610000-1685610000@www.nevadaddcouncil.org
SUMMARY:NGCDD Full Council Meeting
DESCRIPTION:FINAL NGCDD Meeting Minutes 6-1-23 \nNGCDD Meeting Minutes 6-1-23 DRAFT \nFull Council Meeting Agenda 6-1-23 \nAccessible CLDF Policy \nD. Rodriguez NGCDD Report 6.1.23 \nDown Syndrome Conference 2022 Waldina Tapia \nFFY 2024 NGCDD Activities\, Timeline and Funding Matrix Evaluation Committee Rec \nNGCDD FFY ’23 Second Quarter Project Status Summary Report \nNvOC Atmospheric River-2 AFN Liasion Officer Report \nPosition on Ableism \nPosition on Accessibility \nPosition on Accountability\, Inclusion\, and Transparency \nPosition on Charter Schools \nPosition on Community Support \nPosition on Employment \nPosition on Health Care \nPosition on Housing \nPosition on Informed Choice \nPosition on Language Access \nPosition on Mental Health \nPosition on SDM and Guardianship \nPosition on Transportation \nPosition on Voting
URL:https://www.nevadaddcouncil.org/meeting/ngcdd-full-council-meeting-3/
END:VEVENT
BEGIN:VEVENT
DTSTART;TZID=America/Los_Angeles:20230518T100000
DTEND;TZID=America/Los_Angeles:20230518T100000
DTSTAMP:20260425T052740
CREATED:20230420T153821Z
LAST-MODIFIED:20230823T173859Z
UID:11338-1684404000-1684404000@www.nevadaddcouncil.org
SUMMARY:NGCDD Budget Committee Meeting
DESCRIPTION:FINAL Budget Committee Minutes 5-18-23 \nBudget Committee Minutes 5-18-23 DRAFT \nBudget Committee Agenda 5-18-23 \nBudget Committee Minutes 10-13-22 DRAFT \nFFY 2024 NGCDD Activities\, Timeline and Funding Matrix
URL:https://www.nevadaddcouncil.org/meeting/ngcdd-budget-committee-meeting-4/
END:VEVENT
BEGIN:VEVENT
DTSTART;TZID=America/Los_Angeles:20230511T100000
DTEND;TZID=America/Los_Angeles:20230511T100000
DTSTAMP:20260425T052740
CREATED:20230420T153728Z
LAST-MODIFIED:20230814T204948Z
UID:11334-1683799200-1683799200@www.nevadaddcouncil.org
SUMMARY:NGCDD Evaluation Committee Meeting
DESCRIPTION:Final Evaluation Committee Meeting Minutes 5-11-23 \nEvaluation Committee Meeting Minutes 5-11-23 DRAFT \nEvaluation Committee Agenda 5-11-23 \nEvaluation Committee Meeting Minutes 2-9-23 DRAFT \nFFY 2024 NGCDD Activities\, Timeline and Funding Matrix \nNGCDD FFY ’23 Second Quarter Project Status Summary Report \nNvOC Atmospheric River-2 AFN Liasion Officer Report
URL:https://www.nevadaddcouncil.org/meeting/ngcdd-evaluation-committee-meeting-3/
END:VEVENT
BEGIN:VEVENT
DTSTART;TZID=America/Los_Angeles:20230504T100000
DTEND;TZID=America/Los_Angeles:20230504T100000
DTSTAMP:20260425T052740
CREATED:20230420T153624Z
LAST-MODIFIED:20230803T224925Z
UID:11330-1683194400-1683194400@www.nevadaddcouncil.org
SUMMARY:NGCDD Executive Committee Meeting
DESCRIPTION:FINAL Executive Committee Meeting Minutes 5-4-23 \nExecutive Committee Meeting Minutes 5-4-23 DRAFT \nExecutive Committee Executive Committee Agenda 5-4-23 \nExecutive Committee Meeting Minutes 4-6-23 DRAFT \nLobbying vs Education and Advocacy \nDRAFT Position on Ableism \nEducating Policymakers \nDRAFT Accessible CLDF Policy \nDRAFT Position on Language Access \nDRAFT Position on Mental Health \n 
URL:https://www.nevadaddcouncil.org/meeting/ngcdd-executive-committee-meeting-3/
END:VEVENT
END:VCALENDAR