BEGIN:VCALENDAR
VERSION:2.0
PRODID:-//Nevada Governor&#039;s Council on Developmental Disabilities - ECPv6.15.10//NONSGML v1.0//EN
CALSCALE:GREGORIAN
METHOD:PUBLISH
X-WR-CALNAME:Nevada Governor&#039;s Council on Developmental Disabilities
X-ORIGINAL-URL:https://www.nevadaddcouncil.org
X-WR-CALDESC:Events for Nevada Governor&#039;s Council on Developmental Disabilities
REFRESH-INTERVAL;VALUE=DURATION:PT1H
X-Robots-Tag:noindex
X-PUBLISHED-TTL:PT1H
BEGIN:VTIMEZONE
TZID:America/Los_Angeles
BEGIN:DAYLIGHT
TZOFFSETFROM:-0800
TZOFFSETTO:-0700
TZNAME:PDT
DTSTART:20230312T100000
END:DAYLIGHT
BEGIN:STANDARD
TZOFFSETFROM:-0700
TZOFFSETTO:-0800
TZNAME:PST
DTSTART:20231105T090000
END:STANDARD
BEGIN:DAYLIGHT
TZOFFSETFROM:-0800
TZOFFSETTO:-0700
TZNAME:PDT
DTSTART:20240310T100000
END:DAYLIGHT
BEGIN:STANDARD
TZOFFSETFROM:-0700
TZOFFSETTO:-0800
TZNAME:PST
DTSTART:20241103T090000
END:STANDARD
BEGIN:DAYLIGHT
TZOFFSETFROM:-0800
TZOFFSETTO:-0700
TZNAME:PDT
DTSTART:20250309T100000
END:DAYLIGHT
BEGIN:STANDARD
TZOFFSETFROM:-0700
TZOFFSETTO:-0800
TZNAME:PST
DTSTART:20251102T090000
END:STANDARD
END:VTIMEZONE
BEGIN:VEVENT
DTSTART;TZID=America/Los_Angeles:20241107T100000
DTEND;TZID=America/Los_Angeles:20241107T100000
DTSTAMP:20260424T101250
CREATED:20241030T162117Z
LAST-MODIFIED:20250114T191118Z
UID:12805-1730973600-1730973600@www.nevadaddcouncil.org
SUMMARY:NGCDD Executive Committee Meeting
DESCRIPTION:Final Executive Committee Meeting Minutes 11-7-24 \nExecutive Committee Meeting Minutes 11-7-24 DRAFT \nExecutive Committee Agenda 11-7-24 \nExecutive Committee Meeting Minutes 10-10-24 DRAFT \nCOUNCIL MEETING AND AGENDA DEVELOPMENT POLICY \nCOUNCIL MEMBERS SERVING ON OTHER BOARDS POLICY \nEXECUTIVE DIRECTOR JOB DESCRIPTION POLICY \nNGCDD Council Profile Revised 10-24 \nSTAFF DUTIES\, HIRING\, AND SUPERVISION POLICY \nSUPPORT PERSONS CODE OF CONDUCT POLICY
URL:https://www.nevadaddcouncil.org/meeting/ngcdd-executive-committee-meeting-13/
END:VEVENT
BEGIN:VEVENT
DTSTART;TZID=America/Los_Angeles:20241114T100000
DTEND;TZID=America/Los_Angeles:20241114T100000
DTSTAMP:20260424T101250
CREATED:20241107T201650Z
LAST-MODIFIED:20250311T200146Z
UID:12822-1731578400-1731578400@www.nevadaddcouncil.org
SUMMARY:NGCDD Evaluation Committee Meeting
DESCRIPTION:Final Evaluation Committee Meeting Minutes 11-14-24 \nEvaluation Committee Meeting Minutes 11-14-24 DRAFT \nEvaluation Committee Agenda 11-14-24 \nEvaluation Committee Meeting Minutes 8-15-24 DRAFT \nACL-DDC-PHWF-9-12-22-9-30-24 \nNGCDD Fourth Quarter Report \n  \n 
URL:https://www.nevadaddcouncil.org/meeting/ngcdd-evaluation-committee-meeting-9/
END:VEVENT
END:VCALENDAR