BEGIN:VCALENDAR
VERSION:2.0
PRODID:-//Nevada Governor&#039;s Council on Developmental Disabilities - ECPv6.15.10//NONSGML v1.0//EN
CALSCALE:GREGORIAN
METHOD:PUBLISH
X-WR-CALNAME:Nevada Governor&#039;s Council on Developmental Disabilities
X-ORIGINAL-URL:https://www.nevadaddcouncil.org
X-WR-CALDESC:Events for Nevada Governor&#039;s Council on Developmental Disabilities
REFRESH-INTERVAL;VALUE=DURATION:PT1H
X-Robots-Tag:noindex
X-PUBLISHED-TTL:PT1H
BEGIN:VTIMEZONE
TZID:America/Los_Angeles
BEGIN:DAYLIGHT
TZOFFSETFROM:-0800
TZOFFSETTO:-0700
TZNAME:PDT
DTSTART:20230312T100000
END:DAYLIGHT
BEGIN:STANDARD
TZOFFSETFROM:-0700
TZOFFSETTO:-0800
TZNAME:PST
DTSTART:20231105T090000
END:STANDARD
BEGIN:DAYLIGHT
TZOFFSETFROM:-0800
TZOFFSETTO:-0700
TZNAME:PDT
DTSTART:20240310T100000
END:DAYLIGHT
BEGIN:STANDARD
TZOFFSETFROM:-0700
TZOFFSETTO:-0800
TZNAME:PST
DTSTART:20241103T090000
END:STANDARD
BEGIN:DAYLIGHT
TZOFFSETFROM:-0800
TZOFFSETTO:-0700
TZNAME:PDT
DTSTART:20250309T100000
END:DAYLIGHT
BEGIN:STANDARD
TZOFFSETFROM:-0700
TZOFFSETTO:-0800
TZNAME:PST
DTSTART:20251102T090000
END:STANDARD
END:VTIMEZONE
BEGIN:VEVENT
DTSTART;TZID=America/Los_Angeles:20241205T090000
DTEND;TZID=America/Los_Angeles:20241205T090000
DTSTAMP:20260424T084720
CREATED:20241122T171108Z
LAST-MODIFIED:20250327T193553Z
UID:12861-1733389200-1733389200@www.nevadaddcouncil.org
SUMMARY:NGCDD Full Council Meeting
DESCRIPTION:Final NGCDD Meeting Minutes 12-5-24 \nNGCDD Meeting Minutes 12-5-24 DRAFT \nFull Council Meeting Agenda 12-5-24 \nNGCDD Meeting Minutes 9-13-24 DRAFT \nACL-DDC-PHWF-9-12-22-9-30-24 \nCommittees and Members 2024 \nCOUNCIL MEETING AND AGENDA DEVELOPMENT POLICY \nCOUNCIL MEMBERS SERVING ON OTHER BOARDS POLICYDRAFT \n Position Statement on Restraints and Seclusion \nEvaluation Committee Meeting Minutes 11-14-24 DRAFT \nExecutive Committee Meeting Minutes 11-7-24 DRAFT \nEXECUTIVE DIRECTOR JOB DESCRIPTION POLICY \nFinal Executive Committee Meeting Minutes 10-10-24 \nFinal Policy Committee Meeting Minutes 9-26-24 \nNGCDD 2025 Calendar \nNGCDD Council Profile Revised 11-24 \nNGCDD Fourth Quarter Report \nPolicy Committee Meeting Minutes 10-17-24 DRAFT \nPosition on Housing \nSTAFF DUTIES\, HIRING\, AND SUPERVISION POLICY \nSUPPORT PERSONS CODE OF CONDUCT POLICY \nConference experience \nCLDF Presentation
URL:https://www.nevadaddcouncil.org/meeting/ngcdd-full-council-meeting-9/
END:VEVENT
END:VCALENDAR