BEGIN:VCALENDAR
VERSION:2.0
PRODID:-//Nevada Governor&#039;s Council on Developmental Disabilities - ECPv6.15.10//NONSGML v1.0//EN
CALSCALE:GREGORIAN
METHOD:PUBLISH
X-WR-CALNAME:Nevada Governor&#039;s Council on Developmental Disabilities
X-ORIGINAL-URL:https://www.nevadaddcouncil.org
X-WR-CALDESC:Events for Nevada Governor&#039;s Council on Developmental Disabilities
REFRESH-INTERVAL;VALUE=DURATION:PT1H
X-Robots-Tag:noindex
X-PUBLISHED-TTL:PT1H
BEGIN:VTIMEZONE
TZID:America/Los_Angeles
BEGIN:DAYLIGHT
TZOFFSETFROM:-0800
TZOFFSETTO:-0700
TZNAME:PDT
DTSTART:20240310T100000
END:DAYLIGHT
BEGIN:STANDARD
TZOFFSETFROM:-0700
TZOFFSETTO:-0800
TZNAME:PST
DTSTART:20241103T090000
END:STANDARD
BEGIN:DAYLIGHT
TZOFFSETFROM:-0800
TZOFFSETTO:-0700
TZNAME:PDT
DTSTART:20250309T100000
END:DAYLIGHT
BEGIN:STANDARD
TZOFFSETFROM:-0700
TZOFFSETTO:-0800
TZNAME:PST
DTSTART:20251102T090000
END:STANDARD
BEGIN:DAYLIGHT
TZOFFSETFROM:-0800
TZOFFSETTO:-0700
TZNAME:PDT
DTSTART:20260308T100000
END:DAYLIGHT
BEGIN:STANDARD
TZOFFSETFROM:-0700
TZOFFSETTO:-0800
TZNAME:PST
DTSTART:20261101T090000
END:STANDARD
END:VTIMEZONE
BEGIN:VEVENT
DTSTART;TZID=America/Los_Angeles:20250206T100000
DTEND;TZID=America/Los_Angeles:20250206T100000
DTSTAMP:20260424T052536
CREATED:20250203T154349Z
LAST-MODIFIED:20250422T211337Z
UID:12966-1738836000-1738836000@www.nevadaddcouncil.org
SUMMARY:NGCDD Executive Committee Meeting
DESCRIPTION:Final Executive Committee Meeting Minutes 2-6-25 \nExecutive Committee Meeting Minutes 2-6-25 DRAFT \nExecutive Committee Agenda 2-6-25 \nExecutive Committee Meeting Minutes 1-9-25 DRAFT \nCOUNCIL MEETINGS POLICY (DRAFT) \nCOUNCIL PURPOSE POLICY (DRAFT) \nDUTIES AND RESPONSIBILITIES OF MEMBERS POLICY (DRAFT) \nGUIDELINES FOR PRESENTATIONS AND SPEAKERS POLICY (DRAFT)
URL:https://www.nevadaddcouncil.org/meeting/ngcdd-executive-committee-meeting-15/
END:VEVENT
BEGIN:VEVENT
DTSTART;TZID=America/Los_Angeles:20250213T100000
DTEND;TZID=America/Los_Angeles:20250213T100000
DTSTAMP:20260424T052536
CREATED:20250206T164655Z
LAST-MODIFIED:20250213T172729Z
UID:12994-1739440800-1739440800@www.nevadaddcouncil.org
SUMMARY:NGCDD Evaluation Committee Meeting CANCELED Due to Bad Weather/All State Offices Closed
DESCRIPTION:Evaluation Committee Agenda 2-13-25 \nEvaluation Committee Meeting Minutes 11-14-24 DRAFT
URL:https://www.nevadaddcouncil.org/meeting/ngcdd-evaluation-committee-meeting-10/
END:VEVENT
BEGIN:VEVENT
DTSTART;TZID=America/Los_Angeles:20250220T100000
DTEND;TZID=America/Los_Angeles:20250220T100000
DTSTAMP:20260424T052536
CREATED:20250214T153927Z
LAST-MODIFIED:20250317T180241Z
UID:13003-1740045600-1740045600@www.nevadaddcouncil.org
SUMMARY:NGCDD Policy Committee Meeting
DESCRIPTION:Final Policy Committee Meeting Minutes 2-20-25 \nPolicy Committee Meeting Minutes 2-20-25 DRAFT \nPolicy Committee Agenda 2-20-25 \nPolicy Committee Meeting Minutes 1-30-25 DRAFT \nDraft Position Statement on Applied Behavioral Analysis (ABA) and Other Therapy Types \nDraft Position Statement on Crimes \nDRAFT Position Statement on Restraints and Seclusion \nDRAFT Position Statement on Self-Advocacy
URL:https://www.nevadaddcouncil.org/meeting/ngcdd-policy-committee-meeting-16/
END:VEVENT
BEGIN:VEVENT
DTSTART;TZID=America/Los_Angeles:20250227T100000
DTEND;TZID=America/Los_Angeles:20250227T100000
DTSTAMP:20260424T052536
CREATED:20250224T163245Z
LAST-MODIFIED:20250527T202118Z
UID:13027-1740650400-1740650400@www.nevadaddcouncil.org
SUMMARY:NGCDD Evaluation Committee Meeting
DESCRIPTION:Final Evaluation Committee Meeting Minutes 2-27-25 \nEvaluation Committee Meeting Minutes 2-27-25 DRAFT \nEvaluation Committee Agenda 2-27-25 \nEvaluation Committee Meeting Minutes 11-14-24 DRAFT \nNGCDD FFY 25′ First Quarter Project Status Summary Report
URL:https://www.nevadaddcouncil.org/meeting/ngcdd-evaluation-committee-meeting-11/
END:VEVENT
END:VCALENDAR