BEGIN:VCALENDAR
VERSION:2.0
PRODID:-//Nevada Governor&#039;s Council on Developmental Disabilities - ECPv6.15.10//NONSGML v1.0//EN
CALSCALE:GREGORIAN
METHOD:PUBLISH
X-ORIGINAL-URL:https://www.nevadaddcouncil.org
X-WR-CALDESC:Events for Nevada Governor&#039;s Council on Developmental Disabilities
REFRESH-INTERVAL;VALUE=DURATION:PT1H
X-Robots-Tag:noindex
X-PUBLISHED-TTL:PT1H
BEGIN:VTIMEZONE
TZID:America/Los_Angeles
BEGIN:DAYLIGHT
TZOFFSETFROM:-0800
TZOFFSETTO:-0700
TZNAME:PDT
DTSTART:20240310T100000
END:DAYLIGHT
BEGIN:STANDARD
TZOFFSETFROM:-0700
TZOFFSETTO:-0800
TZNAME:PST
DTSTART:20241103T090000
END:STANDARD
BEGIN:DAYLIGHT
TZOFFSETFROM:-0800
TZOFFSETTO:-0700
TZNAME:PDT
DTSTART:20250309T100000
END:DAYLIGHT
BEGIN:STANDARD
TZOFFSETFROM:-0700
TZOFFSETTO:-0800
TZNAME:PST
DTSTART:20251102T090000
END:STANDARD
BEGIN:DAYLIGHT
TZOFFSETFROM:-0800
TZOFFSETTO:-0700
TZNAME:PDT
DTSTART:20260308T100000
END:DAYLIGHT
BEGIN:STANDARD
TZOFFSETFROM:-0700
TZOFFSETTO:-0800
TZNAME:PST
DTSTART:20261101T090000
END:STANDARD
END:VTIMEZONE
BEGIN:VEVENT
DTSTART;TZID=America/Los_Angeles:20251118T100000
DTEND;TZID=America/Los_Angeles:20251118T100000
DTSTAMP:20260423T160634
CREATED:20251103T163620Z
LAST-MODIFIED:20251208T213658Z
UID:13577-1763460000-1763460000@www.nevadaddcouncil.org
SUMMARY:NGCDD Policy Committee Meeting (CANCELLED DUE TO LACK OF QUORUM)
DESCRIPTION:Policy Committee Agenda 11-18-25 \nPolicy Committee Meeting Minutes 10-8-25 DRAFT \nDRAFT Position Statement on Disability Policymaking \nDRAFT Position on Immigration \nPosition on Accessibility
URL:https://www.nevadaddcouncil.org/meeting/13577/
END:VEVENT
BEGIN:VEVENT
DTSTART;TZID=America/Los_Angeles:20251119T130000
DTEND;TZID=America/Los_Angeles:20251119T130000
DTSTAMP:20260423T160634
CREATED:20251027T184656Z
LAST-MODIFIED:20260115T181057Z
UID:13560-1763557200-1763557200@www.nevadaddcouncil.org
SUMMARY:NGCDD Executive Committee Meeting
DESCRIPTION:Final Executive-Committee-Meeting-Minutes-11-19-25 \nExecutive Committee Meeting Minutes 11-19-25 DRAFT \nExecutive Committee Agenda 11-19-25 \nExecutive Committee Meeting Minutes 8-1-25 DRAFT \nExecutive Committee Meeting Minutes 10-9-25 DRAFT \nCOUNCIL MEMBER PARTICIPATION POLICY \nCOUNCIL MEMBER VALUES AND EXPECTATIONS POLICY \nCOUNCIL COMMITTEES POLICY \nCOUNCIL MEMBERS SERVING ON OTHER BOARDS POLICY \nCOUNCIL PURPOSE POLICY \nPUBLIC COMMENT AND PUBLIC PARTICIPATION POLICY \nINFORMING OF POLICYMAKERS BY COUNCIL MEMBERS POLICY \nGUIDELINES FOR VISITORS POLICY \nFIVE-YEAR PLAN OF ACTION DEVELOPMENT POLICY \nGUIDELINES FOR PRESENTATIONS AND SPEAKERS POLICY \nELECTION OF THE COUNCIL OFFICERS\, TERMS OF SERVICES\, AND VACANCIES POLICY \nDELEGATION TO THE EXECUTIVE DIRECTOR POLICY \nDUTIES AND RESPONSIBILITIES OF MEMBERS POLICY \nDISCHARGE OF COUNCIL MEMBERS POLICY \nINFORMING OF POLICYMAKERS BY COUNCIL STAFF POLICY \nREASONABLE ACCOMODATIONS POLICY \nRELATIONSHIPS WITH STATE AGENCIES AND INTERAGENCY COLLABORATION POLICY \nRELEASE OF COUNCIL MEMBER INFORMATION POLICY \nUNUSED CONTRACT FUNDS POLICY \nCHILD CARE AND PERSONAL CARE ATTENDANT SERVICES FOR COUNCIL MEMBERS \nCHILD CARE AND PERSONAL CARE ATTENDANT SERVICES FOR NONCOUNCIL MEMBERS \nCOMPLAINT AND DISPUTE RESOLUTION PROCEDURE POLICY \nCONTRACT AND SUBGRANTEE FUNDING POLICY \nDraft Proposed 5Year State Plan NGCDD 27-31 English
URL:https://www.nevadaddcouncil.org/meeting/ngcdd-executive-committee-meeting-22/
END:VEVENT
BEGIN:VEVENT
DTSTART;TZID=America/Los_Angeles:20251120T100000
DTEND;TZID=America/Los_Angeles:20251120T100000
DTSTAMP:20260423T160634
CREATED:20251103T172753Z
LAST-MODIFIED:20260220T185130Z
UID:13585-1763632800-1763632800@www.nevadaddcouncil.org
SUMMARY:NGCDD Evaluation Committee Meeting
DESCRIPTION:Final Evaluation Committee Meeting Minutes 11-20-25 \nEvaluation Committee Meeting Minutes 11-20-25 DRAFT \nEvaluation Committee Agenda 11-20-25 \nEvaluation Committee Meeting Minutes 8-14-25 DRAFT \nDraft Proposed 5Year State Plan NGCDD 27-31 English \nDraft Proposed 5Year State Plan NGCDD 27-31 Spanish \nNGCDD FFY’ 25 Fourth Quarter Project Status Summary \n 
URL:https://www.nevadaddcouncil.org/meeting/ngcdd-evaluation-committee-meeting-15/
END:VEVENT
END:VCALENDAR