BEGIN:VCALENDAR
VERSION:2.0
PRODID:-//Nevada Governor&#039;s Council on Developmental Disabilities - ECPv6.15.10//NONSGML v1.0//EN
CALSCALE:GREGORIAN
METHOD:PUBLISH
X-ORIGINAL-URL:https://www.nevadaddcouncil.org
X-WR-CALDESC:Events for Nevada Governor&#039;s Council on Developmental Disabilities
REFRESH-INTERVAL;VALUE=DURATION:PT1H
X-Robots-Tag:noindex
X-PUBLISHED-TTL:PT1H
BEGIN:VTIMEZONE
TZID:America/Los_Angeles
BEGIN:DAYLIGHT
TZOFFSETFROM:-0800
TZOFFSETTO:-0700
TZNAME:PDT
DTSTART:20240310T100000
END:DAYLIGHT
BEGIN:STANDARD
TZOFFSETFROM:-0700
TZOFFSETTO:-0800
TZNAME:PST
DTSTART:20241103T090000
END:STANDARD
BEGIN:DAYLIGHT
TZOFFSETFROM:-0800
TZOFFSETTO:-0700
TZNAME:PDT
DTSTART:20250309T100000
END:DAYLIGHT
BEGIN:STANDARD
TZOFFSETFROM:-0700
TZOFFSETTO:-0800
TZNAME:PST
DTSTART:20251102T090000
END:STANDARD
BEGIN:DAYLIGHT
TZOFFSETFROM:-0800
TZOFFSETTO:-0700
TZNAME:PDT
DTSTART:20260308T100000
END:DAYLIGHT
BEGIN:STANDARD
TZOFFSETFROM:-0700
TZOFFSETTO:-0800
TZNAME:PST
DTSTART:20261101T090000
END:STANDARD
END:VTIMEZONE
BEGIN:VEVENT
DTSTART;TZID=America/Los_Angeles:20251211T090000
DTEND;TZID=America/Los_Angeles:20251211T090000
DTSTAMP:20260423T143941
CREATED:20251205T211241Z
LAST-MODIFIED:20260402T210813Z
UID:13668-1765443600-1765443600@www.nevadaddcouncil.org
SUMMARY:NGCDD Full Council Meeting
DESCRIPTION:Final NGCDD-Meeting-Minutes-12-11-25 \nNGCDD-Meeting-Minutes-12-11-25-DRAFT 2 \nFull Council Meeting Agenda 12-11-25 \nNGCDD-Meeting-Minutes-9-18-25-DRAFT \nAPRIL Conference\, Portland\, OR\, 2025 \nBlock 1 – Kaison Fong_Accessible \nDraft Proposed 5Year State Plan NGCDD 27-31 Spanish \nDraft Proposed 5Year State Plan NGCDD 27-31 English \nNGCDD 2026 Calendar (Draft) \nNGCDD FFY’ 25 Fourth Quarter Project Status Summary \nEvaluation Committee Meeting Minutes 11-20-25 DRAFT \nFinal Executive Committee Meeting Minutes 10-9-25 \nExecutive Committee Meeting Minutes 11-19-25 DRAFT \nPolicy Committee Meeting Minutes 10-8-25 DRAFT \nBudget Committee Minutes 10-16-25 DRAFT \nCOUNCIL COMMITTEES POLICY \nNGCDD Council Meeting PCA Project Summary (v1.1)
URL:https://www.nevadaddcouncil.org/meeting/ngcdd-full-council-meeting-13/
END:VEVENT
END:VCALENDAR