BEGIN:VCALENDAR
VERSION:2.0
PRODID:-//Nevada Governor&#039;s Council on Developmental Disabilities - ECPv6.15.10//NONSGML v1.0//EN
CALSCALE:GREGORIAN
METHOD:PUBLISH
X-WR-CALNAME:Nevada Governor&#039;s Council on Developmental Disabilities
X-ORIGINAL-URL:https://www.nevadaddcouncil.org
X-WR-CALDESC:Events for Nevada Governor&#039;s Council on Developmental Disabilities
REFRESH-INTERVAL;VALUE=DURATION:PT1H
X-Robots-Tag:noindex
X-PUBLISHED-TTL:PT1H
BEGIN:VTIMEZONE
TZID:America/Los_Angeles
BEGIN:DAYLIGHT
TZOFFSETFROM:-0800
TZOFFSETTO:-0700
TZNAME:PDT
DTSTART:20250309T100000
END:DAYLIGHT
BEGIN:STANDARD
TZOFFSETFROM:-0700
TZOFFSETTO:-0800
TZNAME:PST
DTSTART:20251102T090000
END:STANDARD
BEGIN:DAYLIGHT
TZOFFSETFROM:-0800
TZOFFSETTO:-0700
TZNAME:PDT
DTSTART:20260308T100000
END:DAYLIGHT
BEGIN:STANDARD
TZOFFSETFROM:-0700
TZOFFSETTO:-0800
TZNAME:PST
DTSTART:20261101T090000
END:STANDARD
BEGIN:DAYLIGHT
TZOFFSETFROM:-0800
TZOFFSETTO:-0700
TZNAME:PDT
DTSTART:20270314T100000
END:DAYLIGHT
BEGIN:STANDARD
TZOFFSETFROM:-0700
TZOFFSETTO:-0800
TZNAME:PST
DTSTART:20271107T090000
END:STANDARD
END:VTIMEZONE
BEGIN:VEVENT
DTSTART;TZID=America/Los_Angeles:20260205T100000
DTEND;TZID=America/Los_Angeles:20260205T100000
DTSTAMP:20260423T113812
CREATED:20260128T222337Z
LAST-MODIFIED:20260415T184943Z
UID:13775-1770285600-1770285600@www.nevadaddcouncil.org
SUMMARY:NGCDD Executive Committee Meeting
DESCRIPTION:Final Executive Committee Meeting Minutes 2-5-26 \nExecutive Committee Meeting Minutes 2-5-26 DRAFT \nExecutive Committee Agenda 2-5-26 \nExecutive Committee Meeting Minutes 1-8-26 DRAFT
URL:https://www.nevadaddcouncil.org/meeting/ngcdd-executive-committee-meeting-24/
END:VEVENT
BEGIN:VEVENT
DTSTART;TZID=America/Los_Angeles:20260212T100000
DTEND;TZID=America/Los_Angeles:20260212T100000
DTSTAMP:20260423T113812
CREATED:20260204T213644Z
LAST-MODIFIED:20260220T224812Z
UID:13786-1770890400-1770890400@www.nevadaddcouncil.org
SUMMARY:NGCDD Evaluation Committee Meeting
DESCRIPTION:Evaluation Committee Meeting Minutes 2-12-26 DRAFT \nEvaluation Committee Agenda 2-12-26 \nEvaluation Committee Meeting Minutes 11-20-25 DRAFT \nFirst Quarter Report 2026 \nFirst Quarter Report 2026 Updated
URL:https://www.nevadaddcouncil.org/meeting/ngcdd-evaluation-committee-meeting-16/
END:VEVENT
BEGIN:VEVENT
DTSTART;TZID=America/Los_Angeles:20260217T090000
DTEND;TZID=America/Los_Angeles:20260217T090000
DTSTAMP:20260423T113812
CREATED:20260212T153554Z
LAST-MODIFIED:20260217T163454Z
UID:13811-1771318800-1771318800@www.nevadaddcouncil.org
SUMMARY:NGCDD Ad-Hoc Transportation Committee (Cancelled due to State Offices being Closed)
DESCRIPTION:CORRECTED Transportation Ad-Hoc Committee Agenda 2-17-26
URL:https://www.nevadaddcouncil.org/meeting/ngcdd-ad-hoc-transportation-committee/
END:VEVENT
BEGIN:VEVENT
DTSTART;TZID=America/Los_Angeles:20260219T100000
DTEND;TZID=America/Los_Angeles:20260219T100000
DTSTAMP:20260423T113812
CREATED:20260211T163718Z
LAST-MODIFIED:20260219T165853Z
UID:13796-1771495200-1771495200@www.nevadaddcouncil.org
SUMMARY:NGCDD Policy Committee Meeting (Cancelled due to State Offices being Delayed)
DESCRIPTION:Policy Committee Agenda 2-19-26 \nPolicy Committee Meeting Minutes 1-22-26 DRAFT
URL:https://www.nevadaddcouncil.org/meeting/ngcdd-policy-committee-meeting-23/
END:VEVENT
END:VCALENDAR